BEGIN:VCALENDAR
VERSION:2.0
PRODID:-//ChamberMaster//Event Calendar 2.0//EN
METHOD:PUBLISH
X-PUBLISHED-TTL:P3D
REFRESH-INTERVAL:P3D
CALSCALE:GREGORIAN
BEGIN:VEVENT
DTSTART:20130928T220000Z
DTEND:20130929T010000Z
X-MICROSOFT-CDO-ALLDAYEVENT:FALSE
SUMMARY:Mutt Strutt Kick-off Party
DESCRIPTION:10th Annual Mutt Strut Walk Benefitting Chicago Canine Rescue. Join us for our fun\, kick-off event!\n\n\n\nComplimentary appetizers from Newport Bar & Grill\n\n \n\nBeverages like our special Mutt Strut Martini\, Caramel Swirl Hot Coco and more!\n\n \n\nHosted by Dog-a-holics\n\n3657 N. Southport Ave\, Chicago\, IL 60613\n\n \n\n20% of Sales \n\nwill benefit Chicago Canine Rescue\n\n \n\nGoodie Bags \n\nfor the first 50 guests
X-ALT-DESC;FMTTYPE=text/html:<span style="font-size: 10pt\;"><span style="font-family: verdana\,sans-serif\;"><span style="color: black\;">10th Annual Mutt Strut Walk Benefitting Chicago Canine Rescue. Join us for our fun\, kick-off event!<br />\n<br />\nComplimentary appetizers from Newport Bar &amp\; Grill</span></span></span><br />\n&nbsp\;<br />\n<span style="font-size: 10pt\;"><span style="font-family: verdana\,sans-serif\;"><span style="color: black\;">Beverages like our special Mutt Strut Martini\, Caramel Swirl Hot Coco and more!</span></span></span><br />\n&nbsp\;<br />\n<span style="font-size: 10pt\;"><span style="font-family: verdana\,sans-serif\;"><span style="color: black\;">Hosted by Dog-a-holics</span></span></span><br />\n<span style="font-size: 10pt\;"><span style="font-family: verdana\,sans-serif\;"><span style="color: black\;">3657 N. Southport Ave\, Chicago\, IL 60613</span></span></span><br />\n&nbsp\;<br />\n<strong><em><span style="font-size: 10pt\;"><span style="font-family: verdana\,sans-serif\;"><span style="color: black\;">20% of Sales </span></span></span></em></strong><br />\n<span style="font-size: 10pt\;"><span style="font-family: verdana\,sans-serif\;"><span style="color: black\;">will benefit Chicago Canine Rescue</span></span></span><br />\n&nbsp\;<br />\n<strong><em><span style="font-size: 10pt\;"><span style="font-family: verdana\,sans-serif\;"><span style="color: black\;">Goodie Bags </span></span></span></em></strong><br />\n<span style="font-size: 10pt\;"><span style="font-family: verdana\,sans-serif\;"><span style="color: black\;">for the first 50 guests</span></span></span><br />\n
LOCATION:Newport Bar & Grill | 3657 N. Southport Ave
UID:e.1819.89
SEQUENCE:3
DTSTAMP:20260425T003914Z
URL:https://members.lakeviewroscoevillage.org/events/details/mutt-strutt-kick-off-party-09-28-2013-89
END:VEVENT

END:VCALENDAR
