BEGIN:VCALENDAR
VERSION:2.0
PRODID:-//ChamberMaster//Event Calendar 2.0//EN
METHOD:PUBLISH
X-PUBLISHED-TTL:P3D
REFRESH-INTERVAL:P3D
CALSCALE:GREGORIAN
BEGIN:VEVENT
DTSTART;VALUE=DATE:20150515
DTEND;VALUE=DATE:20150628
TRANSP:TRANSPARENT
X-MICROSOFT-CDO-ALLDAYEVENT:TRUE
SUMMARY:[My Business is Circumference] New Work by Jeffly Gabriela Molina OPENING RECEPTION
DESCRIPTION:[My Business is Circumference]\, a solo exhibition of new paintings by Chicago-based Venezuelan artist Jeffly Gabriela Molina\, will be on view at Kruger Gallery Chicago\, 3709 N Southport Avenue\, from May 15   June 27\, 2015.\n\n \n\nMolina employs trompe-l'oeil to develop fanciful perspectives\, architectural passages\, and curious environments as she conceptually considers the plurality of female identity. Specifically\, she reflects on both\, Venezuelan and US cultures to question notions of womaness\, and to further understand not the complexities of interpersonal relations\, but the effects culture and society provoke on one's relation to oneself and to reality. \n\n \n\nInspired by Emily Dickinson's 1982 letter to T.W. Higginson\, Molina considers each painting to be a part of a larger narrative that delves deep into personal and universal interpretations of the female experience. By further exploring the traditions of female writing in English\, she has transformed some of her favorite literary works into visual paraphrases\, likening individual artworks to stories\, poems\, essays and letters. The objects and figures the patterns within and the structure of her paintings embrace the "hidden" to juxtapose outward appearances with a psychological awareness.  While Molina's painted surfaces are complex and sometimes obscure\, they possess amusing qualities that makes them even humorous.  According to gallery director\, Mikelle Kruger\, "Molina's paintings are accessible\, personal\, sophisticated and vulnerable engaging a viewer in an intimate way much like one is engaged when curled up with a good book."\n\n \n\nAccording to prominent Chicago art collector\, Larry Levy\, speaking at an Art Institute panel on serious art collecting\, "It is fun and interesting to discover a brilliant\, emerging\, affordable artist like Jeffly Gabriela Molina.  We own more of her wonderful paintings and sculptures than any other artist.\n\n \n\nJeffly Gabriela Molina was born San Cristobal\, Tachira\, Venezuela in 1989.  She came to the United States in 2007 to attend the New World School of the Arts and to help her aunt with her restaurant in Miami\, Florida.  While there\, a prominent Chicago family discovered Molina's paintings\, and they subsequently sponsored her BFA studies at the Art Institute of Chicago. In 2013\, she was commissioned by The Rebury South Beach to permanently install her sculpture Nest at the southwest corner of 18th Street and Collins Ave in Miami Beach\, and her work is part of several private collections.  She is currently a first-year MFA candidate at the School of the Art Institute and is expected to graduate in 2016.  For more information about Molina or her work\, visit www.jefflyart.com.\n\n \n\nThere will be an opening reception for the artist on Friday\, May 15 from 6 PM - 9 PM.
X-ALT-DESC;FMTTYPE=text/html:<div>\n<div style="text-align:center">\n<div style="text-align: left\;"><span style="font-family:times new roman"><span style="font-size:10pt"><span style="color:rgb(80\, 0\, 80)">[My Business is Circumference]\, a solo exhibition of new paintings by Chicago-based Venezuelan artist Jeffly Gabriela Molina\, will be on view at Kruger Gallery Chicago\,&nbsp\;3709 N Southport Avenue\, from&nbsp\;May 15&nbsp\;&ndash\;&nbsp\;June 27\, 2015.</span></span></span></div>\n\n<div style="text-align: left\;"><span style="font-family:times new roman"><span style="font-size:10pt"><span style="color:rgb(80\, 0\, 80)">&nbsp\;</span></span></span></div>\n\n<div style="text-align: left\;"><span style="font-family:times new roman"><span style="font-size:10pt"><span style="color:rgb(80\, 0\, 80)">Molina employs&nbsp\;trompe-l&rsquo\;oeil to develop fanciful perspectives\, architectural passages\, and curious environments as she conceptually considers the plurality of female identity.&nbsp\;Specifically\, she reflects on both\, Venezuelan and US cultures to question notions of&nbsp\;womaness\, and to further understand not&nbsp\;the complexities of interpersonal relations\, but the effects culture and society provoke on&nbsp\;one&#39\;s&nbsp\;relation to oneself and to reality.&nbsp\;</span></span></span></div>\n\n<div style="text-align: left\;"><span style="font-family:times new roman"><span style="font-size:10pt"><span style="color:rgb(80\, 0\, 80)">&nbsp\;</span></span></span></div>\n\n<div style="text-align: left\;"><span style="font-family:times new roman"><span style="font-size:10pt"><span style="color:rgb(80\, 0\, 80)">Inspired by Emily Dickinson&rsquo\;s 1982 letter to T.W.&nbsp\;Higginson\, Molina considers each painting to be a part of a larger narrative that delves deep into personal and universal interpretations of the female experience. By further exploring the traditions of female writing in English\, she has transformed some of her favorite literary works into visual paraphrases\, likening individual artworks to stories\, poems\, essays and letters. The objects and figures&mdash\;the patterns within&mdash\;and the structure&nbsp\;of her paintings embrace the &ldquo\;hidden&rdquo\; to juxtapose outward appearances&nbsp\;with a psychological awareness.&nbsp\; While Molina&rsquo\;s painted surfaces are complex and sometimes obscure\, they possess amusing qualities that makes them even humorous.&nbsp\; According to gallery director\,&nbsp\;Mikelle&nbsp\;Kruger\, &ldquo\;Molina&rsquo\;s paintings are accessible\, personal\, sophisticated and vulnerable engaging a viewer in an intimate way much like one is engaged when curled up with a good book.&rdquo\;</span></span></span></div>\n\n<div style="text-align: left\;"><span style="font-family:times new roman"><span style="font-size:10pt"><span style="color:rgb(80\, 0\, 80)">&nbsp\;</span></span></span></div>\n\n<div style="text-align: left\;"><span style="font-family:times new roman"><span style="font-size:10pt"><span style="color:rgb(80\, 0\, 80)">According to prominent Chicago art collector\, Larry Levy\, speaking at an Art Institute panel on serious art collecting\, &ldquo\;It is fun and interesting to discover a brilliant\, emerging\, affordable artist like Jeffly Gabriela Molina.&nbsp\; We own more of her wonderful paintings and sculptures than any other artist.</span></span></span></div>\n\n<div style="text-align: left\;"><span style="font-family:times new roman"><span style="font-size:10pt"><span style="color:rgb(80\, 0\, 80)">&nbsp\;</span></span></span></div>\n\n<div style="text-align: left\;"><span style="font-family:times new roman"><span style="font-size:10pt"><span style="color:rgb(80\, 0\, 80)">Jeffly Gabriela Molina was born San Cristobal\,&nbsp\;Tachira\, Venezuela in 1989.&nbsp\; She came to the United States in 2007 to attend the New World School of the Arts and to help her aunt with her restaurant in Miami\, Florida.&nbsp\; While there\, a prominent Chicago family discovered Molina&rsquo\;s paintings\, and they subsequently sponsored her&nbsp\;BFA&nbsp\;studies at the Art Institute of Chicago. In 2013\, she was commissioned by The Rebury South Beach to permanently install her sculpture Nest at the southwest corner of&nbsp\;18<span style="font-size:7.3px"><sup>th</sup></span>&nbsp\;Street and Collins Ave in Miami Beach\, and her work is part of several private collections.&nbsp\; She is currently a first-year MFA candidate at the School of the Art Institute and is expected to graduate in 2016.&nbsp\; For more information about Molina or her work\, visit&nbsp\;<a href="http://www.jefflyart.com/" style="color: rgb(17\, 85\, 204)\;" target="_blank"><span style="color:rgb(2\, 30\, 170)">www.jefflyart.com</span></a>.</span></span></span></div>\n\n<div style="text-align: left\;"><span style="font-family:times new roman"><span style="font-size:10pt"><span style="color:rgb(80\, 0\, 80)">&nbsp\;</span></span></span></div>\n\n<div style="text-align: left\;"><span style="font-family:times new roman"><span style="font-size:10pt"><span style="color:rgb(80\, 0\, 80)">There will be an opening reception for the artist&nbsp\;on&nbsp\;Friday\, May 15&nbsp\;from&nbsp\;6 PM&nbsp\;-&nbsp\;9 PM. &nbsp\;</span></span></span></div>\n</div>\n</div>\n
LOCATION:Kruger Gallery Chicago\, 3709 N Southport Avenue
UID:e.1819.1563
SEQUENCE:3
DTSTAMP:20260423T074258Z
URL:https://members.lakeviewroscoevillage.org/events/details/my-business-is-circumference-new-work-by-jeffly-gabriela-molina-opening-reception-05-15-2015-1563
END:VEVENT

END:VCALENDAR
