BEGIN:VCALENDAR
VERSION:2.0
PRODID:-//ChamberMaster//Event Calendar 2.0//EN
METHOD:PUBLISH
X-PUBLISHED-TTL:P3D
REFRESH-INTERVAL:P3D
CALSCALE:GREGORIAN
BEGIN:VEVENT
DTSTART:20161007T210000Z
DTEND:20161007T230000Z
X-MICROSOFT-CDO-ALLDAYEVENT:FALSE
SUMMARY:Neighborhood Appreciation Night
DESCRIPTION:We want to thank our neighbors for being so great by getting together for food and drinks on us! With all of the heightened crime happening in our area\, why not get together as a community to have a good time filled with food\, drinks and laughter.\n\n\n\nThere will be an appetizer buffet & drinks offered from 4-6pm. Guests are welcome to stay after as well!\n\n\n\nCheers!
X-ALT-DESC;FMTTYPE=text/html:We want to thank our neighbors for being so great by getting together for food and drinks on us! With all of the heightened crime happening in our area\, why not get together as a community to have a good time filled with food\, drinks and laughter.<br />\n<br />\nThere will be an appetizer buffet &amp\; drinks offered from 4-6pm. Guests are welcome to stay after as well!<br />\n<br />\nCheers!
LOCATION:Diag Bar & Grill 2856 N Southport Ave Chicago IL 60657
UID:e.1819.3818
SEQUENCE:3
DTSTAMP:20260422T085123Z
URL:https://members.lakeviewroscoevillage.org/events/details/neighborhood-appreciation-night-10-07-2016-3818
END:VEVENT

END:VCALENDAR
