BEGIN:VCALENDAR
VERSION:2.0
PRODID:-//ChamberMaster//Event Calendar 2.0//EN
METHOD:PUBLISH
X-PUBLISHED-TTL:P3D
REFRESH-INTERVAL:P3D
CALSCALE:GREGORIAN
BEGIN:VEVENT
DTSTART:20161202T220000Z
DTEND:20161203T000000Z
X-MICROSOFT-CDO-ALLDAYEVENT:FALSE
SUMMARY:Neighborhood Appreciation Night
DESCRIPTION:The holiday season is upon us and we want to thank our neighbors for being so amazing by getting together for food and drinks ON US on Friday\, December 2nd. With the first Neighborhood Appreciation party being such a success we want to host another! There will be an appetizer buffet & drinks offered from 4-6pm. Guests are welcome to stay after as well.\n\n\n\nCheers!
X-ALT-DESC;FMTTYPE=text/html:The holiday season is upon us and we want to thank our neighbors for being so amazing by getting together for food and drinks ON US on Friday\, December 2nd. With the first Neighborhood Appreciation party being such a success we want to host another!&nbsp\;There will be an appetizer buffet &amp\; drinks offered from 4-6pm. Guests are welcome to stay after as well.<br />\n<br />\nCheers!
LOCATION:Diag Bar & Grill 2856 N Southport Ave Chicago IL 60657
UID:e.1819.4836
SEQUENCE:3
DTSTAMP:20260420T045901Z
URL:https://members.lakeviewroscoevillage.org/events/details/neighborhood-appreciation-night-12-02-2016-4836
END:VEVENT

END:VCALENDAR
