BEGIN:VCALENDAR
VERSION:2.0
PRODID:-//ChamberMaster//Event Calendar 2.0//EN
METHOD:PUBLISH
X-PUBLISHED-TTL:P3D
REFRESH-INTERVAL:P3D
CALSCALE:GREGORIAN
BEGIN:VEVENT
DTSTART:20160326T150000Z
DTEND:20160326T170000Z
X-MICROSOFT-CDO-ALLDAYEVENT:FALSE
SUMMARY:Neighborhood Easter Egg Hunt
DESCRIPTION:Missio Dei Church is hosting a neighborhood Easter Egg Hunt at Blaine Elementary School. Also sponsored by Candyality and Julius Meinl (coffee & cocoa).
X-ALT-DESC;FMTTYPE=text/html:Missio Dei Church is hosting a neighborhood Easter Egg Hunt at Blaine Elementary School. Also sponsored by Candyality and Julius Meinl (coffee &amp\; cocoa).
LOCATION:Blaine Elementary Field
UID:e.1819.2855
SEQUENCE:3
DTSTAMP:20260422T151109Z
URL:https://members.lakeviewroscoevillage.org/events/details/neighborhood-easter-egg-hunt-03-26-2016-2855
END:VEVENT

END:VCALENDAR
