BEGIN:VCALENDAR
VERSION:2.0
PRODID:-//ChamberMaster//Event Calendar 2.0//EN
METHOD:PUBLISH
X-PUBLISHED-TTL:P3D
REFRESH-INTERVAL:P3D
CALSCALE:GREGORIAN
BEGIN:VEVENT
DTSTART:20260128T233000Z
DTEND:20260129T010000Z
X-MICROSOFT-CDO-ALLDAYEVENT:FALSE
SUMMARY:Network Night at Cole Sadkin
DESCRIPTION:Join us for an evening of meaningful connections at Network Nights. This casual network event for members is the perfect opportunity to expand your professional circle\, strengthen relationships\, and discover new ways to collaborate within our vibrant business community.\n\nEnjoy light refreshments\, engaging conversations\, and the chance to meet fellow members from a wide range of industries all in a welcoming\, relaxed atmosphere. Whether you're new to the chamber or a long-time member\, Network Nights is your place to connect\, exchange ideas\, and grow your business together.
X-ALT-DESC;FMTTYPE=text/html:<p data-end="452" data-start="103" style="color: rgb(51\, 51\, 51)\; font-family: sans-serif\, Arial\, Verdana\, &quot\;Trebuchet MS&quot\;\; font-size: 13px\;">Join us for an evening of meaningful connections at&nbsp\;<strong data-end="220" data-start="203">Network Nights.&nbsp\;</strong>This casual network event for members is the perfect opportunity to expand your professional circle\, strengthen relationships\, and discover new ways to collaborate within our vibrant business community.</p>\n\n<p data-end="761" data-start="454" style="color: rgb(51\, 51\, 51)\; font-family: sans-serif\, Arial\, Verdana\, &quot\;Trebuchet MS&quot\;\; font-size: 13px\;">Enjoy light refreshments\, engaging conversations\, and the chance to meet fellow members from a wide range of industries&mdash\;all in a welcoming\, relaxed atmosphere. Whether you&rsquo\;re new to the chamber or a long-time member\, Network Nights is your place to connect\, exchange ideas\, and grow your business together.</p>\n
LOCATION:Cole Sadkin 1652 W. Belmont Ave Chicago
UID:e.1819.20938
SEQUENCE:3
DTSTAMP:20260421T083436Z
URL:https://members.lakeviewroscoevillage.org/events/details/network-night-at-cole-sadkin-20938
END:VEVENT

END:VCALENDAR
