BEGIN:VCALENDAR
VERSION:2.0
PRODID:-//ChamberMaster//Event Calendar 2.0//EN
METHOD:PUBLISH
X-PUBLISHED-TTL:P3D
REFRESH-INTERVAL:P3D
CALSCALE:GREGORIAN
BEGIN:VEVENT
DTSTART:20250918T223000Z
DTEND:20250919T003000Z
X-MICROSOFT-CDO-ALLDAYEVENT:FALSE
SUMMARY:Network on the River
DESCRIPTION:Network on the river\n\n\n\njoin Business professionals from four chambers: Lakeview Roscoe Village\, Lincoln Square Ravenswood\, Logan Square and North center Network while enjoying food and drink from soul & smoke on the patio at Rockwell on the river
X-ALT-DESC;FMTTYPE=text/html:<p class="cvGsUA direction-ltr align-center para-style-pretitle" style="font-family: YAFdJhem5V8_1\, _fb_\, auto\; --cyV3ZQ: 32.2247px\; --gJPlXQ: 1.4\; text-transform: uppercase\; line-height: 45px\;"><span style="font-family:tahoma\;"><span class="OYPEnA font-feature-liga-off font-feature-clig-off font-feature-calt-off text-decoration-none text-strikethrough-none" style="color: rgb(0\, 78\, 122)\; font-weight: 700\; font-kerning: normal\; --Ys-XuQ: none\;">Network on the river</span></span><br />\n<br />\n<span style="font-family:arial\;"><span class="OYPEnA font-feature-liga-off font-feature-clig-off font-feature-calt-off text-decoration-none text-strikethrough-none" style="font-kerning: normal\; --Ys-XuQ: none\;">join Business professionals from&nbsp\;four chambers: Lakeview Roscoe Village\, Lincoln Square Ravenswood\, Logan Square and North center Network while enjoying food and drink from soul &amp\; smoke</span><span class="OYPEnA font-feature-liga-off font-feature-clig-off font-feature-calt-off text-decoration-none text-strikethrough-none white-space-prewrap" style="font-kerning: normal\; --Ys-XuQ: none\;">&nbsp\;</span><span class="OYPEnA font-feature-liga-off font-feature-clig-off font-feature-calt-off text-decoration-none text-strikethrough-none" style="font-kerning: normal\; --Ys-XuQ: none\;">on the patio at Rockwell on the river</span></span><br />\n<br />\n&nbsp\;</p>\n
LOCATION:Rockwell on the River 3057 N Rockwell St Chicago
UID:e.1819.20932
SEQUENCE:3
DTSTAMP:20260424T065636Z
URL:https://members.lakeviewroscoevillage.org/events/details/network-on-the-river-20932
END:VEVENT

END:VCALENDAR
