BEGIN:VCALENDAR
VERSION:2.0
PRODID:-//ChamberMaster//Event Calendar 2.0//EN
METHOD:PUBLISH
X-PUBLISHED-TTL:P3D
REFRESH-INTERVAL:P3D
CALSCALE:GREGORIAN
BEGIN:VEVENT
DTSTART:20151028T223000Z
DTEND:20151029T003000Z
X-MICROSOFT-CDO-ALLDAYEVENT:FALSE
SUMMARY:Networking and Art Tasting at Bottle & Bottega
DESCRIPTION:Paint\, sip\, mingle\, repeat. Network and uncork your creativity with fellow Lakeview Chamber members!\n\n\n\nWine provided by Bottle & Bottega\n\nCupcakes provided by Smallcakes Chicago\n\nRaffle prizes provided by Beermiscuous and Vision Boutique.
X-ALT-DESC;FMTTYPE=text/html:<span style="line-height: 20.8px\;">Paint\, sip\, mingle\, repeat. Network and uncork your creativity with fellow Lakeview Chamber members!<br />\n<br />\nWine provided by Bottle &amp\; Bottega<br />\nCupcakes provided by Smallcakes Chicago<br />\nRaffle prizes provided by Beermiscuous&nbsp\;and Vision Boutique.&nbsp\;</span>
LOCATION:Bottle & Bottega 2900 N Lincoln Ave. Chicago\, IL 60657
UID:e.1819.1820
SEQUENCE:3
DTSTAMP:20260423T003634Z
URL:https://members.lakeviewroscoevillage.org/events/details/networking-and-art-tasting-at-bottle-bottega-10-28-2015-1820
END:VEVENT

END:VCALENDAR
