BEGIN:VCALENDAR
VERSION:2.0
PRODID:-//ChamberMaster//Event Calendar 2.0//EN
METHOD:PUBLISH
X-PUBLISHED-TTL:P3D
REFRESH-INTERVAL:P3D
CALSCALE:GREGORIAN
BEGIN:VEVENT
DTSTART:20170419T130000Z
DTEND:20170419T140000Z
X-MICROSOFT-CDO-ALLDAYEVENT:FALSE
SUMMARY:Networking Coffee
DESCRIPTION:Join the Lakeview and Lincoln Park Chambers of Commerce and the Small Business Advocacy Council (SBAC) at our monthly networking coffee at Diag Bar & Grill in Chicago's Lakeview neighborhood.\n\n\n\nThese gatherings are a great place to relax and talk a little business. Enjoy complimentary coffee and tea supplied by Diag.
X-ALT-DESC;FMTTYPE=text/html:<p font-size:="" ms="" sans="">Join the Lakeview and&nbsp\;Lincoln Park&nbsp\;Chambers of Commerce and the&nbsp\;<a href="http://www.smallbusinessadvocacycouncil.org/">Small Business Advocacy Council</a>&nbsp\;(SBAC)&nbsp\;at our monthly networking coffee at Diag Bar &amp\; Grill in Chicago&#39\;s Lakeview neighborhood.<br />\n<br />\nThese gatherings are a great place to relax and talk a little business. Enjoy complimentary coffee and tea supplied by&nbsp\;Diag.<br />\n<br />\n&nbsp\;</p>\n
LOCATION:Diag Bar & Grill 2856 N Southport Ave
UID:e.1819.4903
SEQUENCE:3
DTSTAMP:20260419T220009Z
URL:https://members.lakeviewroscoevillage.org/events/details/networking-coffee-04-19-2017-4903
END:VEVENT

END:VCALENDAR
