BEGIN:VCALENDAR
VERSION:2.0
PRODID:-//ChamberMaster//Event Calendar 2.0//EN
METHOD:PUBLISH
X-PUBLISHED-TTL:P3D
REFRESH-INTERVAL:P3D
CALSCALE:GREGORIAN
BEGIN:VEVENT
DTSTART:20161116T140000Z
DTEND:20161116T150000Z
X-MICROSOFT-CDO-ALLDAYEVENT:FALSE
SUMMARY:Networking Coffee with the Small Business Advocacy Council
DESCRIPTION:Join the Lakeview and Lincoln Park Chambers of Commerce and the Small Business Advocacy Council (SBAC) at our monthly networking coffee at Diag Bar & Grill in Chicago's Lakeview neighborhood.\n\nThese gatherings are a great place to relax and talk a little business. Enjoy complimentary coffee and tea supplied by Diag.\n\n\n\nTo RSVP or to join as a guest\, email info@lakeviewchamber.com
X-ALT-DESC;FMTTYPE=text/html:<p style="margin: 0px\; padding: 5px 0px\; border: none\; border-image-source: none\; border-image-slice: 100% 1 0\; border-image-repeat: stretch\; line-height: 17px\; bottom: auto\; box-sizing: content-box\; clear: none\; color: rgb(49\, 53\, 56)\; content: normal\; direction: inherit\; empty-cells: show\; float: none\; font-family: Arial\, Helvetica\, sans-serif\; font-size: 14px\; font-stretch: inherit\; left: auto\; max-height: none\; max-width: none\; opacity: 1\; outline: invert none medium\; outline-offset: 0px\; overflow: visible\; position: static\; resize: none\; right: auto\; table-layout: auto\; text-overflow: clip\; top: auto\; vertical-align: baseline\; visibility: inherit\; word-break: inherit\; word-wrap: inherit\; z-index: auto\; border-collapse: separate\; border-radius: 0px\; height: auto\; width: auto\; box-shadow: none\; background: none rgb(248\, 248\, 248)\;">Join the Lakeview and&nbsp\;Lincoln Park&nbsp\;Chambers of Commerce and the&nbsp\;<a href="http://www.smallbusinessadvocacycouncil.org/">Small Business Advocacy Council</a> (SBAC)&nbsp\;at our monthly networking coffee at Diag Bar &amp\; Grill in Chicago&#39\;s Lakeview neighborhood.</p>\n\n<p style="margin: 0px\; padding: 5px 0px\; border: none\; border-image-source: none\; border-image-slice: 100% 1 0\; border-image-repeat: stretch\; line-height: 17px\; bottom: auto\; box-sizing: content-box\; clear: none\; color: rgb(49\, 53\, 56)\; content: normal\; direction: inherit\; empty-cells: show\; float: none\; font-family: Arial\, Helvetica\, sans-serif\; font-size: 14px\; font-stretch: inherit\; left: auto\; max-height: none\; max-width: none\; opacity: 1\; outline: invert none medium\; outline-offset: 0px\; overflow: visible\; position: static\; resize: none\; right: auto\; table-layout: auto\; text-overflow: clip\; top: auto\; vertical-align: baseline\; visibility: inherit\; word-break: inherit\; word-wrap: inherit\; z-index: auto\; border-collapse: separate\; border-radius: 0px\; height: auto\; width: auto\; box-shadow: none\; background: none rgb(248\, 248\, 248)\;">These gatherings are a great place to relax and talk a little business. <span style="color: rgb(49\, 53\, 56)\; font-family: Arial\, Helvetica\, sans-serif\; font-size: 14px\; line-height: 17px\; background-color: rgb(248\, 248\, 248)\;">Enjoy c</span><span style="color: rgb(49\, 53\, 56)\; font-family: Arial\, Helvetica\, sans-serif\; font-size: 14px\; line-height: 17px\; background-color: rgb(248\, 248\, 248)\;">omplimentary coffee and tea supplied by&nbsp\;</span>Diag<span style="color: rgb(49\, 53\, 56)\; font-family: Arial\, Helvetica\, sans-serif\; font-size: 14px\; line-height: 17px\; background-color: rgb(248\, 248\, 248)\;">.</span><br />\n<br />\nTo RSVP or to join as a guest\, email&nbsp\;<a href="mailto:lvitosh@lakeviewchamber.com?subject=Joint%20Breakfast%20with%20the%20SBAC">info@lakeviewchamber.com</a></p>\n
LOCATION:Diag Bar & Grill 2856 N Southport Ave
UID:e.1819.2280
SEQUENCE:3
DTSTAMP:20260420T065240Z
URL:https://members.lakeviewroscoevillage.org/events/details/networking-coffee-with-the-small-business-advocacy-council-11-16-2016-2280
END:VEVENT

END:VCALENDAR
