BEGIN:VCALENDAR
VERSION:2.0
PRODID:-//ChamberMaster//Event Calendar 2.0//EN
METHOD:PUBLISH
X-PUBLISHED-TTL:P3D
REFRESH-INTERVAL:P3D
CALSCALE:GREGORIAN
BEGIN:VEVENT
DTSTART:20171025T223000Z
DTEND:20171026T003000Z
X-MICROSOFT-CDO-ALLDAYEVENT:FALSE
SUMMARY:Networking Extravaganza
DESCRIPTION:Experience a great night of celebration and conversation with over twenty neighborhood chambers of commerce. Join professionals from the north\, south\, and west sides of Chicago at the multi-chamber networking event. Make new connections over games of Whirlyball\, laser tag\, and bowling\, plus enjoy complimentary appetizers and refreshments all night long!
X-ALT-DESC;FMTTYPE=text/html:<span style="font-family: arial\; font-size: 14px\; background-color: rgb(255\, 255\, 255)\;">Experience a great night of celebration and conversation with over twenty neighborhood chambers of commerce. Join professionals from the north\, south\, and west sides of Chicago at the multi-chamber networking event. Make new connections over games of&nbsp\;Whirlyball\, laser tag\, and bowling\, plus enjoy complimentary appetizers&nbsp\;and refreshments all night long!&nbsp\;</span>
LOCATION:WhirlyBall 1825 W. Webster
UID:e.1819.11191
SEQUENCE:3
DTSTAMP:20260419T161044Z
URL:https://members.lakeviewroscoevillage.org/events/details/networking-extravaganza-10-25-2017-11191
END:VEVENT

END:VCALENDAR
