BEGIN:VCALENDAR
VERSION:2.0
PRODID:-//ChamberMaster//Event Calendar 2.0//EN
METHOD:PUBLISH
X-PUBLISHED-TTL:P3D
REFRESH-INTERVAL:P3D
CALSCALE:GREGORIAN
BEGIN:VEVENT
DTSTART:20161117T233000Z
DTEND:20161118T013000Z
X-MICROSOFT-CDO-ALLDAYEVENT:FALSE
SUMMARY:Networking Extravaganza
DESCRIPTION:Experience a great night of celebration and conversation with business professionals from all over Chicago at this multi-chamber event! Twenty chambers of commerce will join in the festivities! Enjoy complimentary hors d' oeuvres and beverages from WhirlyBall in their amazing location!
X-ALT-DESC;FMTTYPE=text/html:Experience a great night of celebration and conversation with business professionals from all over Chicago at this multi-chamber event! Twenty chambers of commerce will join in the festivities! Enjoy complimentary hors d&#39\; oeuvres and beverages&nbsp\;from WhirlyBall in their amazing location!
LOCATION:WhirlyBall 1825 W Webster Chicago\, IL 60614
UID:e.1819.3819
SEQUENCE:3
DTSTAMP:20260420T063813Z
URL:https://members.lakeviewroscoevillage.org/events/details/networking-extravaganza-11-17-2016-3819
END:VEVENT

END:VCALENDAR
