BEGIN:VCALENDAR
VERSION:2.0
PRODID:-//ChamberMaster//Event Calendar 2.0//EN
METHOD:PUBLISH
X-PUBLISHED-TTL:P3D
REFRESH-INTERVAL:P3D
CALSCALE:GREGORIAN
BEGIN:VEVENT
DTSTART:20160212T000000Z
DTEND:20160212T020000Z
X-MICROSOFT-CDO-ALLDAYEVENT:FALSE
SUMMARY:Networking with Cole Sadkin
DESCRIPTION:Join Mason Cole\, partner of Cole Sadkin\, LLC\, and his network for a happy hour at Butcher's Tap on Thursday\, February 11th\, at 6:00 p.m.
X-ALT-DESC;FMTTYPE=text/html:<span style="color: rgb(0\, 0\, 0)\; font-family: arial\, sans-serif\; font-size: 12.8px\; line-height: normal\;">Join Mason Cole\, partner of Cole Sadkin\, LLC\, and his network for a happy hour at Butcher&#39\;s Tap on&nbsp\;</span><span class="aBn" data-term="goog_1259466960" style="border-bottom-width: 1px\; border-bottom-style: dashed\; border-bottom-color: rgb(204\, 204\, 204)\; position: relative\; top: -2px\; z-index: 0\; color: rgb(0\, 0\, 0)\; font-family: arial\, sans-serif\; font-size: 12.8px\; line-height: normal\;" tabindex="0"><span class="aQJ" style="position: relative\; top: 2px\; z-index: -1\;">Thursday\, February 11th</span></span><span style="color: rgb(0\, 0\, 0)\; font-family: arial\, sans-serif\; font-size: 12.8px\; line-height: normal\;">\, at&nbsp\;</span><span class="aBn" data-term="goog_1259466961" style="border-bottom-width: 1px\; border-bottom-style: dashed\; border-bottom-color: rgb(204\, 204\, 204)\; position: relative\; top: -2px\; z-index: 0\; color: rgb(0\, 0\, 0)\; font-family: arial\, sans-serif\; font-size: 12.8px\; line-height: normal\;" tabindex="0"><span class="aQJ" style="position: relative\; top: 2px\; z-index: -1\;">6:00 p.m.</span></span>\n\n<div class="aSS" style="position: absolute\; visibility: hidden\; color: rgb(0\, 0\, 0)\; font-family: arial\, sans-serif\; font-size: 12.8px\; line-height: normal\; left: 0px\; top: 43px\; width: 26px\; height: 16px\;">&nbsp\;</div>\n
LOCATION:Butcher's Tap\, 3553 N Southport Ave\, Chicago\, IL 60657
UID:e.1819.2694
SEQUENCE:3
DTSTAMP:20260422T170635Z
URL:https://members.lakeviewroscoevillage.org/events/details/networking-with-cole-sadkin-02-11-2016-2694
END:VEVENT

END:VCALENDAR
