BEGIN:VCALENDAR
VERSION:2.0
PRODID:-//ChamberMaster//Event Calendar 2.0//EN
METHOD:PUBLISH
X-PUBLISHED-TTL:P3D
REFRESH-INTERVAL:P3D
CALSCALE:GREGORIAN
BEGIN:VEVENT
DTSTART:20150226T020000Z
DTEND:20150226T033000Z
X-MICROSOFT-CDO-ALLDAYEVENT:FALSE
SUMMARY:Networkout: Yoga & Networking at Spindle Fitness
DESCRIPTION:Grab your yoga mat and business cards and join us for a Networkout at Spindle Fitness.  \n\n8:00-8:45am Yoga\n\n8:45-9:30am Networking\n\nDon't want to do yoga? No problem\, feel free to come for just the networking portion.
X-ALT-DESC;FMTTYPE=text/html:Grab your yoga mat and business cards and join us for a Networkout at Spindle Fitness. &nbsp\;<br />\n8:00-8:45am Yoga<br />\n8:45-9:30am Networking<br />\n<span style="line-height: 20.7999992370605px\;">Don&#39\;t want to do yoga? No problem\, feel free to come for just the networking portion.&nbsp\;</span>
LOCATION:Spindle Fitness 1153 W Diversey Chicago\, IL 60614
UID:e.1819.1497
SEQUENCE:3
DTSTAMP:20260423T172355Z
URL:https://members.lakeviewroscoevillage.org/events/details/networkout-yoga-networking-at-spindle-fitness-02-25-2015-1497
END:VEVENT

END:VCALENDAR
