BEGIN:VCALENDAR
VERSION:2.0
PRODID:-//ChamberMaster//Event Calendar 2.0//EN
METHOD:PUBLISH
X-PUBLISHED-TTL:P3D
REFRESH-INTERVAL:P3D
CALSCALE:GREGORIAN
BEGIN:VEVENT
DTSTART:20140405T180000Z
DTEND:20140406T000000Z
X-MICROSOFT-CDO-ALLDAYEVENT:FALSE
SUMMARY:Never Done Yoga One Day Immersion
DESCRIPTION:This immersion is perfect for ALL\; whether you've never stepped foot in a studio or you've been practicing for years. If you want to learn more about breathing exercises\, meditation techniques\, how certain poses break down\, the philosophy of yoga or which kind of yoga is right for you\, this immersion is for YOU!
X-ALT-DESC;FMTTYPE=text/html:This immersion is perfect for ALL\; whether you&rsquo\;ve never stepped foot in a studio or you&rsquo\;ve been practicing for years. If you want to learn more about breathing exercises\, meditation techniques\, how certain poses break down\, the philosophy of yoga or which kind of yoga is right for you\, this immersion is for YOU!
LOCATION:3113 N Lincoln Avenue
UID:e.1819.242
SEQUENCE:3
DTSTAMP:20260424T120734Z
URL:https://members.lakeviewroscoevillage.org/events/details/never-done-yoga-one-day-immersion-04-05-2014-242
END:VEVENT

END:VCALENDAR
