BEGIN:VCALENDAR
VERSION:2.0
PRODID:-//ChamberMaster//Event Calendar 2.0//EN
METHOD:PUBLISH
X-PUBLISHED-TTL:P3D
REFRESH-INTERVAL:P3D
CALSCALE:GREGORIAN
BEGIN:VEVENT
DTSTART:20170313T230000Z
DTEND:20170314T020000Z
X-MICROSOFT-CDO-ALLDAYEVENT:FALSE
SUMMARY:New -- Wood Pallet Painting at B&B!
DESCRIPTION:Go against the grain of a boring night in! Rustic\, Vintage\, or Country Chic-- whatever your design aesthetic\, you are sure to fall in love with painting on this textured surface. Registration includes use of all necessary paint supplies\, artist instruction\, and a take home 12X16 wood pallet.\n\n6:00pm - 6:30pm BYOB Cocktail Reception\n\n6:30pm - 9:30pm Painting and adding tiles\n\n- The first 30 minutes of the event is the time to settle in and grab some wine or a cocktail!\n\n- We have glasses\, wine openers\, plastic ware\, paper plates\, napkins\, and ice here for you. [You're welcome to bring any food items\; please note table space is limited.]\n\nTO REGISTER FOR THIS EVENT\, CLICK HERE: http://bit.ly/woodpallets3-13
X-ALT-DESC;FMTTYPE=text/html:<p><strong>Go against the grain of a boring night in!&nbsp\;</strong>Rustic\, Vintage\, or Country Chic-- whatever your design aesthetic\, you are sure to fall in love with painting on this textured surface. Registration includes use of all necessary paint supplies\, artist instruction\, and a take home 12X16 wood pallet.</p>\n\n<p>6:00pm - 6:30pm BYOB Cocktail Reception<br />\n6:30pm - 9:30pm Painting and adding tiles</p>\n\n<p>- The first 30 minutes of the event is the time to settle in and grab some wine or a cocktail!<br />\n- We have glasses\, wine openers\, plastic ware\, paper plates\, napkins\, and ice here for you. [You&rsquo\;re welcome to bring any food items\; please note table space is limited.]</p>\n\n<p><strong>TO REGISTER FOR THIS EVENT\, CLICK HERE:&nbsp\;<a href="http://bit.ly/woodpallets3-13" rel="noopener noreferrer nofollow" style="color: rgb(2\, 120\, 184)\; text-decoration: none\; padding-top: 0px\;" target="_blank">http://bit.ly/woodpallets3-13</a></strong></p>\n
LOCATION:Bottle & Bottega Lakeview 2900 N Lincoln Ave Chicago\, IL 60657
UID:e.1819.4996
SEQUENCE:3
DTSTAMP:20260420T015946Z
URL:https://members.lakeviewroscoevillage.org/events/details/new-wood-pallet-painting-at-b-b-03-13-2017-4996
END:VEVENT

END:VCALENDAR
