BEGIN:VCALENDAR
VERSION:2.0
PRODID:-//ChamberMaster//Event Calendar 2.0//EN
METHOD:PUBLISH
X-PUBLISHED-TTL:P3D
REFRESH-INTERVAL:P3D
CALSCALE:GREGORIAN
BEGIN:VEVENT
DTSTART:20170127T003000Z
DTEND:20170127T020000Z
X-MICROSOFT-CDO-ALLDAYEVENT:FALSE
SUMMARY:New Year Open House\, "Dance is the Solution!"
DESCRIPTION:New Year's Resolutions?  Join us for our "DANCE IS THE SOLUTION" Party on Thursday\, January 26tth\, from 6:30-8:00pm at Arthur Murray Lakeview!   We will show you just how learning to dance at Arthur Murray can be the solution to any resolution...whether you are looking for a new hobby or sport to take up\, a creative and fun way to excersise\, an exciting date night or the way to envigorate and spice up you social life! \n\n\n\nThis event is open to the public.\n\nComplimentary to our Lakeview Chamber Members and their Guests! \n\n\n\nYour evening will include:\n\n	Wine\, Champagne & Hors D'Oeuvres\n	A Beginning Dance Lesson\n	Unique Dance Demonstrations\n\nPlease RSVP to reserve your spot today!\n\n\n\nWe look forward to seeing you soon!
X-ALT-DESC;FMTTYPE=text/html:New Year&#39\;s Resolutions?&nbsp\; Join us for our &quot\;DANCE IS THE SOLUTION&quot\; Party on Thursday\, January 26tth\, from 6:30-8:00pm at Arthur Murray Lakeview! &nbsp\; We will show you just how learning to dance at Arthur Murray can be the solution to any resolution...whether you are looking for a new hobby or sport to take up\, a creative and fun way to excersise\, an exciting date night or the way to envigorate and spice up you social life!&nbsp\;<br />\n<br />\nThis event is open to the public.<br />\nComplimentary to our Lakeview Chamber Members and their Guests!&nbsp\;<br />\n<br />\nYour evening will include:\n<ul>\n	<li>Wine\, Champagne &amp\; Hors D&#39\;Oeuvres</li>\n	<li>A Beginning Dance Lesson</li>\n	<li>Unique Dance Demonstrations</li>\n</ul>\nPlease RSVP to reserve your spot today!<br />\n<br />\nWe look forward to seeing you soon!<br />\n&nbsp\;
LOCATION:Arthur Murray Lakeview 3301 N Lincoln Ave Chicago\, IL 60657
UID:e.1819.4914
SEQUENCE:3
DTSTAMP:20260420T032728Z
URL:https://members.lakeviewroscoevillage.org/events/details/new-year-open-house-dance-is-the-solution-01-26-2017-4914
END:VEVENT

END:VCALENDAR
