BEGIN:VCALENDAR
VERSION:2.0
PRODID:-//ChamberMaster//Event Calendar 2.0//EN
METHOD:PUBLISH
X-PUBLISHED-TTL:P3D
REFRESH-INTERVAL:P3D
CALSCALE:GREGORIAN
BEGIN:VEVENT
DTSTART;VALUE=DATE:20141231
DTEND;VALUE=DATE:20150101
TRANSP:TRANSPARENT
X-MICROSOFT-CDO-ALLDAYEVENT:TRUE
SUMMARY:New Year's Eve Hollywood Glam at Diag
DESCRIPTION:New Year's Eve 2015\n\nHollywood Glam at Diag
X-ALT-DESC;FMTTYPE=text/html:New Year&#39\;s Eve 2015<br />\nHollywood Glam at Diag<br />\n<br />\n&nbsp\;
LOCATION:Diag Bar & Grill 2856 N Southport
UID:e.1819.1325
SEQUENCE:3
DTSTAMP:20260423T210320Z
URL:https://members.lakeviewroscoevillage.org/events/details/new-year-s-eve-hollywood-glam-at-diag-12-31-2014-1325
END:VEVENT

END:VCALENDAR
