BEGIN:VCALENDAR
VERSION:2.0
PRODID:-//ChamberMaster//Event Calendar 2.0//EN
METHOD:PUBLISH
X-PUBLISHED-TTL:P3D
REFRESH-INTERVAL:P3D
CALSCALE:GREGORIAN
BEGIN:VEVENT
DTSTART:20170101T020000Z
DTEND:20170101T070000Z
X-MICROSOFT-CDO-ALLDAYEVENT:FALSE
SUMMARY:New Years Eve 2017
DESCRIPTION:Join Bash Events and The Diag as we ring in the New Year with the best Happy Ending you've ever had! Dance the night away as our DJ spins your favorite tunes\, we sip champagne and count down to 2017. Our 5 hour package will include a signature buffet that will feed the soul\, bubbly toast that will set the mood\, a premium bar to warm the heart\, and party favors that'll excite us all!
X-ALT-DESC;FMTTYPE=text/html:Join Bash Events and The Diag as we ring in the New Year with the best Happy Ending you&#39\;ve ever had! Dance the night away as our DJ spins your favorite tunes\, we sip champagne and count down to 2017. Our 5 hour package will include a signature buffet that will feed the soul\, bubbly toast that will set the mood\, a premium bar to warm the heart\, and party favors that&#39\;ll excite us all!&nbsp\;<br />\n<br />\n&nbsp\;
LOCATION:Diag Bar & Grill 2856 N Southport Ave Chicago IL 60657
UID:e.1819.4873
SEQUENCE:3
DTSTAMP:20260420T031159Z
URL:https://members.lakeviewroscoevillage.org/events/details/new-years-eve-2017-12-31-2016-4873
END:VEVENT

END:VCALENDAR
