BEGIN:VCALENDAR
VERSION:2.0
PRODID:-//ChamberMaster//Event Calendar 2.0//EN
METHOD:PUBLISH
X-PUBLISHED-TTL:P3D
REFRESH-INTERVAL:P3D
CALSCALE:GREGORIAN
BEGIN:VEVENT
DTSTART:20141231T230000Z
DTEND:20150101T050000Z
X-MICROSOFT-CDO-ALLDAYEVENT:FALSE
SUMMARY:NEW YEARS EVE at ANI
DESCRIPTION:Join us at Ani for a special New Years Eve dinner. \n\n\n\n5-6:30pm Family Style 3 course meal for adults and children\n\n\n\n5-11pm NYE prix fixe 6 course meal\, optional sake pairings\n\n\n\ncomplimentary sake or sparking wine pour
X-ALT-DESC;FMTTYPE=text/html:Join us at Ani for a special New Years Eve dinner.&nbsp\;<br />\n<br />\n5-6:30pm Family Style 3 course meal for adults and children<br />\n<br />\n5-11pm NYE prix fixe 6 course meal\, optional sake pairings<br />\n<br />\ncomplimentary sake or sparking wine pour
LOCATION:3056 N. Lincoln ave. Chicago\, IL 60657
UID:e.1819.1354
SEQUENCE:3
DTSTAMP:20260423T190832Z
URL:https://members.lakeviewroscoevillage.org/events/details/new-years-eve-at-ani-12-31-2014-1354
END:VEVENT

END:VCALENDAR
