BEGIN:VCALENDAR
VERSION:2.0
PRODID:-//ChamberMaster//Event Calendar 2.0//EN
METHOD:PUBLISH
X-PUBLISHED-TTL:P3D
REFRESH-INTERVAL:P3D
CALSCALE:GREGORIAN
BEGIN:VEVENT
DTSTART:20131005T040000Z
DTEND:20131005T060000Z
X-MICROSOFT-CDO-ALLDAYEVENT:FALSE
SUMMARY:Nick Offerman presents Dead Man
DESCRIPTION:As an actor and theatrical renaissance man in Chicago in the 1990's\, Nick Offerman made his way to the Music Box Theatre quite often\, where he saw one of his favorite films: Jim Jarmusch's Dead Man. We are delighted to have him here to introduce and discuss this masterpiece!\n\n\n	Only Jarmusch could direct a Western with a poetry-loving American Indian who mistakes accountant William Blake for the English writer by the same name\, while bounty hunters take Blake for a murderer.
X-ALT-DESC;FMTTYPE=text/html:<div id="blurb" style="margin: 0px 0px 2ex\; padding: 0px\; border: 0px\; font-weight: bold\; font-family: Arial\, Helvetica\, sans-serif\; vertical-align: baseline\; color: rgb(51\, 51\, 51)\; line-height: 18px\;">\n	<p style="margin: 0px 0px 2ex\; padding: 0px 5px\; border: 0px\; font-weight: inherit\; font-style: inherit\; font-family: inherit\; vertical-align: baseline\;">\n		As an actor and theatrical renaissance man in Chicago in the 1990&rsquo\;s\, Nick Offerman made his way to the Music Box Theatre quite often\, where he saw one of his favorite films: Jim Jarmusch&rsquo\;s&nbsp\;<cite style="font-family: Georgia\, 'Times New Roman'\, Times\, serif\;">Dead Man</cite>. We are delighted to have him here to introduce and discuss this masterpiece!</p>\n</div>\n<p style="margin: 2ex 0px 0px\; padding: 0px 5px\; border: 0px\; font-family: Arial\, Helvetica\, sans-serif\; vertical-align: baseline\; color: rgb(51\, 51\, 51)\; line-height: 18px\;">\n	Only Jarmusch could direct a Western with a poetry-loving American Indian who mistakes accountant William Blake for the English writer by the same name\, while bounty hunters take Blake for a murderer.</p>\n
LOCATION:Music Box Theatre
UID:e.1819.60
SEQUENCE:3
DTSTAMP:20260424T224232Z
URL:https://members.lakeviewroscoevillage.org/events/details/nick-offerman-presents-dead-man-10-04-2013-60
END:VEVENT

END:VCALENDAR
