BEGIN:VCALENDAR
VERSION:2.0
PRODID:-//ChamberMaster//Event Calendar 2.0//EN
METHOD:PUBLISH
X-PUBLISHED-TTL:P3D
REFRESH-INTERVAL:P3D
CALSCALE:GREGORIAN
BEGIN:VEVENT
DTSTART:20171111T170000Z
DTEND:20171112T230000Z
X-MICROSOFT-CDO-ALLDAYEVENT:FALSE
SUMMARY:Niloca and Kirk & Kirk Trunk Show at Eye Spy Optical!
DESCRIPTION:Week two of Eye Spy Optical's November Trunk Show Extravaganza brings us not one\, but two great eyewear designers: Niloca and Kirk&Kirk!\n\n\n\nNiloca is one of our absolute favorites! The Australian designer makes eyewear for unabashed\, confident eyewear connoisseurs\, who pave a path to the highest peak and shout from its summit\, "HERE I AM WORLD\, TAKE YOUR BEST SHOT!!" Niloca's collections are always a breath of fresh air and we can't wait to see the newest additions! \n\n\n\nKirk & Kirk's collections are sweet like candy! The Kaleidoscope collection is bright and colorful and good enough to eat! The Vivarium collection is softer and each frame comes personalized your choice of embellishment.  Bold\, but wearable shapes comes in a rainbow of colors that are so pretty it will be hard to choose just one! Come try them all on!\n\n\n\nCan't make it in on Saturday? Schedule a private appointment on Sunday\, Nov. 12 via email or phone 773-477-2670.
X-ALT-DESC;FMTTYPE=text/html:<span style="color:rgb(75\, 79\, 86)\; font-family:helvetica\,arial\,sans-serif\; font-size:14px">Week two of <a href="http://eyespyoptical.com/">Eye Spy Optical&#39\;s</a> November Trunk Show Extravaganza brings us not one\, but two great eyewear designers: Niloca and Kirk&amp\;Kirk!</span><br />\n<br />\n<span style="color:rgb(75\, 79\, 86)\; font-family:helvetica\,arial\,sans-serif\; font-size:14px">Niloca is one of our absolute favorites! The Australian designer makes eyewear for unabashed\, confident eyewear connoisseurs\, who pave a path to the highest peak and shout from its summit\, &ldquo\;HERE I AM WORLD\, TAKE YOUR BEST SHOT!!&rdquo\; Niloca&#39\;s collections are always a breath of fresh air and we can&#39\;t wait to see the newest additions!&nbsp\;</span><br />\n<br />\n<span style="color:rgb(75\, 79\, 86)\; font-family:helvetica\,arial\,sans-serif\; font-size:14px">Kirk &amp\; Kirk&#39\;s collections are sweet like candy! The Kaleidoscope collection is bright and colorful and good enough to eat! The Vivarium collection is softer and each frame comes personalized your choice of embellishment.&nbsp\; Bold\, but wearable shapes comes in a rainbow of colors that are so pretty it will be hard to choose just one! Come try them all on!<br />\n<br />\nCan&#39\;t make it in on Saturday? Schedule a private appointment on Sunday\, Nov. 12 via email or phone 773-477-2670.&nbsp\;</span>&nbsp\;&nbsp\;&nbsp\;&nbsp\;
LOCATION:Eye Spy Optical 3350 N Lincoln Ave Chicago\, IL 60657
UID:e.1819.11197
SEQUENCE:3
DTSTAMP:20260419T142943Z
URL:https://members.lakeviewroscoevillage.org/events/details/niloca-and-kirk-kirk-trunk-show-at-eye-spy-optical-11-11-2017-11197
END:VEVENT

END:VCALENDAR
