BEGIN:VCALENDAR
VERSION:2.0
PRODID:-//ChamberMaster//Event Calendar 2.0//EN
METHOD:PUBLISH
X-PUBLISHED-TTL:P3D
REFRESH-INTERVAL:P3D
CALSCALE:GREGORIAN
BEGIN:VEVENT
DTSTART;VALUE=DATE:20151111
DTEND;VALUE=DATE:20151119
TRANSP:TRANSPARENT
X-MICROSOFT-CDO-ALLDAYEVENT:TRUE
SUMMARY:No School's Cool
DESCRIPTION:School is certainly cool\, but so are occasional days off! Kids can trade in their pencils and paper for choppers and cutting boards in special two-hour classes. Parents/caregivers are welcome to drop-off or stay and watch. Wednesday\, November 11 11:30am-1:00pm (ages 7-10) 1:30-3:00pm (ages 4-6) MENU: Build-Your-Own Pizza\, Fresh-Squeezed Lemonade & Fruit Kabobs with Chocolate Fondue PRICE: $32/child Friday\, November 13 11:00am-12:30pm (ages 7-10) 2:30-4:00pm (ages 4-6) MENU: Build-Your-Own Tacos\, Horchata & Baked Churros PRICE: $32/child Wednesday\, November 18 11:30am-1:00pm (ages 7-10) 1:30-3:00pm (ages 4-6) MENU: Build-Your-Own Grilled Cheese & Banana Splits PRICE: $32/child
X-ALT-DESC;FMTTYPE=text/html:School is certainly cool\, but so are occasional days off! Kids can trade in their pencils and paper for choppers and cutting boards in special two-hour classes. Parents/caregivers are welcome to drop-off or stay and watch. Wednesday\, November 11 11:30am-1:00pm (ages 7-10) 1:30-3:00pm (ages 4-6) MENU: Build-Your-Own Pizza\, Fresh-Squeezed Lemonade &amp\; Fruit Kabobs with Chocolate Fondue PRICE: $32/child Friday\, November 13 11:00am-12:30pm (ages 7-10) 2:30-4:00pm (ages 4-6) MENU: Build-Your-Own Tacos\, Horchata &amp\; Baked Churros PRICE: $32/child Wednesday\, November 18 11:30am-1:00pm (ages 7-10) 1:30-3:00pm (ages 4-6) MENU: Build-Your-Own Grilled Cheese &amp\; Banana Splits PRICE: $32/child
LOCATION:The Kids' Table 2864 N Lincoln Ave
UID:e.1819.2249
SEQUENCE:3
DTSTAMP:20260422T223150Z
URL:https://members.lakeviewroscoevillage.org/events/details/no-school-s-cool-11-11-2015-2249
END:VEVENT

END:VCALENDAR
