BEGIN:VCALENDAR
VERSION:2.0
PRODID:-//ChamberMaster//Event Calendar 2.0//EN
METHOD:PUBLISH
X-PUBLISHED-TTL:P3D
REFRESH-INTERVAL:P3D
CALSCALE:GREGORIAN
BEGIN:VEVENT
DTSTART;VALUE=DATE:20151012
DTEND;VALUE=DATE:20151013
TRANSP:TRANSPARENT
X-MICROSOFT-CDO-ALLDAYEVENT:TRUE
SUMMARY:No School's Cool - Columbus Day Cooking Workshop for Kids
DESCRIPTION:What to do with the kids on Columbus Day? School is certainly cool\, but so are occasional days off! Kids can trade in their pencils and paper for choppers and cutting boards in special two-hour classes. Parents/caregivers are welcome to drop-off or stay and watch. 9:30-11:30am (ages 7-10) 1:00-3:00pm (ages 4-6) MENU: Sweet Potato Smoked Gouda Mac n' Cheese & White Chocolate Cranberry Cookies
X-ALT-DESC;FMTTYPE=text/html:What to do with the kids on Columbus Day? School is certainly cool\, but so are occasional days off! Kids can trade in their pencils and paper for choppers and cutting boards in special two-hour classes. Parents/caregivers are welcome to drop-off or stay and watch. 9:30-11:30am (ages 7-10) 1:00-3:00pm (ages 4-6) MENU: Sweet Potato Smoked Gouda Mac n&#39\; Cheese &amp\; White Chocolate Cranberry Cookies
LOCATION:The Kids' Table 2864 N Lincoln Avenue Chicago\, IL
UID:e.1819.2029
SEQUENCE:3
DTSTAMP:20260423T003911Z
URL:https://members.lakeviewroscoevillage.org/events/details/no-school-s-cool-columbus-day-cooking-workshop-for-kids-10-12-2015-2029
END:VEVENT

END:VCALENDAR
