BEGIN:VCALENDAR
VERSION:2.0
PRODID:-//ChamberMaster//Event Calendar 2.0//EN
METHOD:PUBLISH
X-PUBLISHED-TTL:P3D
REFRESH-INTERVAL:P3D
CALSCALE:GREGORIAN
BEGIN:VEVENT
DTSTART:20160820T000000Z
DTEND:20160820T040000Z
X-MICROSOFT-CDO-ALLDAYEVENT:FALSE
SUMMARY:North Coast Nights at Beef & Barley
DESCRIPTION:Beef & Barley is excited to be one of eight bars selected to participate in this years  North Coast Nights.  Thanks to our friends from Heineken\, you have the opportunity to win tickets to this years North Coast Music Festival.  \n\nCome out to Beef & Barley on August 12th for your chance to win one of two giveaways.  We have 4 general admission tickets that will be given to the winner of our bi-weekly bocce ball tournament.  To be eligible to win these tickets\, you must register a team for the tournament and take 1st place.  In addition\, we will be raffling off 2 VIP tickets.  Simply show up on August 12th to be eligible for the raffle.\n\nClick HERE for more information on the bocce ball tournament and to register.\n\n*Must be 21+ to be eligible for either giveaway
X-ALT-DESC;FMTTYPE=text/html:<div>\n<p>Beef &amp\; Barley is excited to be one of eight bars selected to participate in this years &nbsp\;North Coast Nights. &nbsp\;Thanks to our friends from Heineken\, you have the opportunity to win tickets to this years North Coast Music Festival. &nbsp\;</p>\n\n<p>Come out to Beef &amp\; Barley on August 12th for your chance to win one of two giveaways. &nbsp\;We have 4 general admission tickets that will be given to the winner of our bi-weekly bocce ball tournament. &nbsp\;To be eligible to win these tickets\, you must register a team for the tournament and take 1st place. &nbsp\;In addition\, we will be raffling off 2 VIP tickets. &nbsp\;Simply show up on August 12th to be eligible for the raffle.</p>\n\n<p>Click <a href="http://www.beefandbarleychi.com/events/7/29/2016/american-bocce-ball-co-presents" target="_blank">HERE</a> for more information on the bocce ball tournament and to register.</p>\n\n<p><em>*Must be 21+ to be eligible for either giveaway</em></p>\n</div>\n
LOCATION:Beef & Barley is a neighborhood gastropub located in the heart of Lakeview that serves up craft beers\, cocktails and shared plates with a Chicago twist. The team prides themselves on offering guests a relaxed dining experience with an ever-changing curated list of Midwest\, hard-to-find brews and imaginative craft cocktails. Chef Cecil Rodriguez's seasonal menus are inspired by his love of Chicago and all of its eclectic neighborhoods and cuisines. With a highly affordable menu and specials each night of the week\, Beef & Barley offers something for everyone. Guests will never be bored with an array of entertainment options from trivia nights\, skee ball\, board games and an old school photo booth.
UID:e.1819.3556
SEQUENCE:3
DTSTAMP:20260422T062403Z
URL:https://members.lakeviewroscoevillage.org/events/details/north-coast-nights-at-beef-barley-08-19-2016-3556
END:VEVENT

END:VCALENDAR
