BEGIN:VCALENDAR
VERSION:2.0
PRODID:-//ChamberMaster//Event Calendar 2.0//EN
METHOD:PUBLISH
X-PUBLISHED-TTL:P3D
REFRESH-INTERVAL:P3D
CALSCALE:GREGORIAN
BEGIN:VEVENT
DTSTART:20260128T170000Z
DTEND:20260128T190000Z
X-MICROSOFT-CDO-ALLDAYEVENT:FALSE
SUMMARY:Northside Networking Event
DESCRIPTION:Expand your network at this multi-chamber "speed networking event!" Be sure to bring at least 80 business cards with you. Join us for lunch and a structured networking event.
X-ALT-DESC;FMTTYPE=text/html:Expand your network at this multi-chamber &quot\;speed networking event!&quot\; Be sure to bring at least 80 business cards with you. Join us for lunch and a structured networking event.&nbsp\;
LOCATION:Hon Kee BBQ & Seafood Restaurant 5009 N Winthrop Ave\, Chicago\, IL 60640
UID:e.1819.20939
SEQUENCE:3
DTSTAMP:20260421T060838Z
URL:https://members.lakeviewroscoevillage.org/events/details/northside-networking-event-20939
END:VEVENT

END:VCALENDAR
