BEGIN:VCALENDAR
VERSION:2.0
PRODID:-//ChamberMaster//Event Calendar 2.0//EN
METHOD:PUBLISH
X-PUBLISHED-TTL:P3D
REFRESH-INTERVAL:P3D
CALSCALE:GREGORIAN
BEGIN:VEVENT
DTSTART:20140101T020000Z
DTEND:20140101T070000Z
X-MICROSOFT-CDO-ALLDAYEVENT:FALSE
SUMMARY:NYE at Burke's Patio & Tap
DESCRIPTION:Ring in 2014 at your favorite neighborhood bar in Lakeview!\n\n	\n\n	Ticket Includes:\n\n	\n		Premium Drinks\n	\n		Champagne Toast & Balloon Drop @ Midnight\n	\n		Free 12:30am Hors d'oeuvres Buffet\n	\n		Live Band Karaoke from 9pm-1am.
X-ALT-DESC;FMTTYPE=text/html:<p>\n	Ring in 2014 at your favorite neighborhood bar in Lakeview!<br />\n	<br />\n	Ticket Includes:</p>\n<ul>\n	<li>\n		Premium Drinks</li>\n	<li>\n		Champagne Toast &amp\; Balloon Drop @ Midnight</li>\n	<li>\n		Free 12:30am Hors d&#39\;oeuvres Buffet</li>\n	<li>\n		Live Band Karaoke from 9pm-1am.&nbsp\;</li>\n</ul>\n<p>\n	&nbsp\;</p>\n
LOCATION:Burke's Patio & Tap 2913 N. Lincoln Ave Chicago\, IL 60657
UID:e.1819.144
SEQUENCE:3
DTSTAMP:20260424T172917Z
URL:https://members.lakeviewroscoevillage.org/events/details/nye-at-burke-s-patio-tap-12-31-2013-144
END:VEVENT

END:VCALENDAR
