BEGIN:VCALENDAR
VERSION:2.0
PRODID:-//ChamberMaster//Event Calendar 2.0//EN
METHOD:PUBLISH
X-PUBLISHED-TTL:P3D
REFRESH-INTERVAL:P3D
CALSCALE:GREGORIAN
BEGIN:VEVENT
DTSTART:20140101T020000Z
DTEND:20140101T070000Z
X-MICROSOFT-CDO-ALLDAYEVENT:FALSE
SUMMARY:NYE at Diag Bar
DESCRIPTION:Join Bash Events and The Diag as we ring in the New Year with the best Happy Ending you've ever had!\n\n	Dance the night away as our DJ spins your favorite tunes\, we sip champagne and countdown to 2014!\n\n	We'll be serving a premium drink package along with a signature dinner buffet and a good time guaranteed to be had by all.\nSeveral Ticket Options Available! Click for details.
X-ALT-DESC;FMTTYPE=text/html:Join Bash Events and The Diag as we ring in the New Year with the best Happy Ending you&#39\;ve ever had!\n<p>\n	Dance the night away as our DJ spins your favorite tunes\, we sip champagne and countdown to 2014!</p>\n<p>\n	We&#39\;ll be serving a premium drink package along with a signature dinner buffet and a good time guaranteed to be had by all.</p>\nSeveral Ticket Options Available! <a href="https://www.eventbrite.com/e/nye-2014-happy-ending-tickets-8528570183?ref=ebtnebtckt">Click for details.</a>
LOCATION:The Diag Bar & Grill 2856 N Southport Ave Chicago\, IL 60657
UID:e.1819.141
SEQUENCE:3
DTSTAMP:20260424T172703Z
URL:https://members.lakeviewroscoevillage.org/events/details/nye-at-diag-bar-12-31-2013-141
END:VEVENT

END:VCALENDAR
