BEGIN:VCALENDAR
VERSION:2.0
PRODID:-//ChamberMaster//Event Calendar 2.0//EN
METHOD:PUBLISH
X-PUBLISHED-TTL:P3D
REFRESH-INTERVAL:P3D
CALSCALE:GREGORIAN
BEGIN:VEVENT
DTSTART:20140101T013000Z
DTEND:20140101T070000Z
X-MICROSOFT-CDO-ALLDAYEVENT:FALSE
SUMMARY:NYE at Mystic Celt
DESCRIPTION:Make sure you're doing something fun this NYE! Join us at Mystic Celt in Lakeview on Southport Ave.\n\n\n\nYour ticket includes:\n\n	\n		Premium Beer\, Wine & Cocktails\n	\n		Premium Appetizer Buffet\n	\n		Champagne toast at Midnight\n	\n		Party Favors\n	\n		Live DJ Rockin' the House
X-ALT-DESC;FMTTYPE=text/html:Make sure you&#39\;re doing something fun this NYE! Join us at Mystic Celt in Lakeview on Southport Ave.<br />\n<br />\nYour ticket includes:\n<ul>\n	<li>\n		Premium Beer\, Wine &amp\; Cocktails</li>\n	<li>\n		Premium Appetizer Buffet</li>\n	<li>\n		Champagne toast at Midnight</li>\n	<li>\n		Party Favors</li>\n	<li>\n		Live DJ Rockin&#39\; the House</li>\n</ul>\n
LOCATION:Mystic Celt 3443 N. Southport Ave
UID:e.1819.139
SEQUENCE:3
DTSTAMP:20260424T172729Z
URL:https://members.lakeviewroscoevillage.org/events/details/nye-at-mystic-celt-12-31-2013-139
END:VEVENT

END:VCALENDAR
