BEGIN:VCALENDAR
VERSION:2.0
PRODID:-//ChamberMaster//Event Calendar 2.0//EN
METHOD:PUBLISH
X-PUBLISHED-TTL:P3D
REFRESH-INTERVAL:P3D
CALSCALE:GREGORIAN
BEGIN:VEVENT
DTSTART:20140101T030000Z
DTEND:20140101T080000Z
X-MICROSOFT-CDO-ALLDAYEVENT:FALSE
SUMMARY:NYE at Schoolyard Tavern
DESCRIPTION:Ring in NYE 2014 at Schoolyard!\n\n\n\nTicket Includes:\n\n	\n		Appetizers\n	\n		Premium beer\, wine\, cocktails\n	\n		Champagne Toast\n	\n		DJ
X-ALT-DESC;FMTTYPE=text/html:Ring in NYE 2014 at Schoolyard!<br />\n<br />\nTicket Includes:\n<ul>\n	<li>\n		Appetizers</li>\n	<li>\n		Premium beer\, wine\, cocktails</li>\n	<li>\n		Champagne Toast</li>\n	<li>\n		DJ</li>\n</ul>\n
LOCATION:3258 N. Southport Ave Chicago\, IL 60613
UID:e.1819.142
SEQUENCE:3
DTSTAMP:20260424T172747Z
URL:https://members.lakeviewroscoevillage.org/events/details/nye-at-schoolyard-tavern-12-31-2013-142
END:VEVENT

END:VCALENDAR
