BEGIN:VCALENDAR
VERSION:2.0
PRODID:-//ChamberMaster//Event Calendar 2.0//EN
METHOD:PUBLISH
X-PUBLISHED-TTL:P3D
REFRESH-INTERVAL:P3D
CALSCALE:GREGORIAN
BEGIN:VEVENT
DTSTART:20140101T020000Z
DTEND:20140101T070000Z
X-MICROSOFT-CDO-ALLDAYEVENT:FALSE
SUMMARY:NYE at The Pony Inn
DESCRIPTION:Ring in 2014 at The Pony Inn!\n\n\n\n5 Hour Package Includes:\n\n	\n		Premium Drinks\n	\n		Buffett\n	\n		Champagne Toast\n	\n		Party Favors\n	\n		Live DJ
X-ALT-DESC;FMTTYPE=text/html:Ring in 2014 at The Pony Inn!<br />\n<br />\n5 Hour Package Includes:\n<ul>\n	<li>\n		Premium Drinks</li>\n	<li>\n		Buffett</li>\n	<li>\n		Champagne Toast</li>\n	<li>\n		Party Favors</li>\n	<li>\n		Live DJ</li>\n</ul>\n
LOCATION:1638 W. Belmont Ave Chicago\, IL 60657
UID:e.1819.140
SEQUENCE:3
DTSTAMP:20260424T190255Z
URL:https://members.lakeviewroscoevillage.org/events/details/nye-at-the-pony-inn-12-31-2013-140
END:VEVENT

END:VCALENDAR
