BEGIN:VCALENDAR
VERSION:2.0
PRODID:-//ChamberMaster//Event Calendar 2.0//EN
METHOD:PUBLISH
X-PUBLISHED-TTL:P3D
REFRESH-INTERVAL:P3D
CALSCALE:GREGORIAN
BEGIN:VEVENT
DTSTART:20140101T020000Z
DTEND:20140101T070000Z
X-MICROSOFT-CDO-ALLDAYEVENT:FALSE
SUMMARY:NYE at Toon's Bar & Grill
DESCRIPTION:Toon's New Year's Eve\n\nWhole Hog House Party\n\n\n\n$65 Early Bird Ticket  (by 12/15/13)\n\n$75 After 12/15/13\n\n\n\nTicket Includes:\n\n\n\n \n\n* OPEN BAR. All you can EAT & DRINK from 8pm - 1am.\n\nThis includes a champagne toast at midnight and party favors.\n\n \n\n* BBQ & FOOD. Johnny Van will be smoking a WHOLE HOG! Plus\, we'll have all sorts of delicious sides in our BBQ buffet. He turns meat into gold! \n\n \n\n* DJ DANCE PARTY. Our friend\, DJRC will be playing his blend of funk\, soul\, hip-hop\, and more. \n\nHe's opened for everyone from Shuggie Otis to Trombone Shorty to Escort to The Revivalists\, and then some!\n\n \n\nLarge group of friends who want to ring in the New Year? \n\nEmail us at events@socialbirdschicago.com for discount options and reserved space. Space limited.
X-ALT-DESC;FMTTYPE=text/html:<span style="font-size: 12px\;"><span style="font-family: tahoma\;">Toon&#39\;s New Year&#39\;s Eve<br />\nWhole Hog House Party<br />\n<br />\n<span style="color: rgb(31\, 60\, 85)\;">$65 Early Bird Ticket&nbsp\; (by 12/15/13)<br />\n$75 After 12/15/13<br />\n<br />\nTicket Includes:</span><br />\n<br />\n&nbsp\;<br />\n<span style="color: rgb(31\, 60\, 85)\;"><strong>* OPEN BAR.</strong> All you can EAT &amp\; DRINK from 8pm - 1am.<br />\nThis includes a champagne toast at midnight and party favors.</span><br />\n<strong>&nbsp\;<br />\n<span style="color: rgb(31\, 60\, 85)\;">* BBQ &amp\; FOOD. </span></strong><a href="http://r20.rs6.net/tn.jsp?e=001itrmGR9tD_AIkewdCQV46A5s0MHEkXMEeVwgjzdyAYhfYGuwr3hKZy91qdzna1SpDTKMpvrh_hznuLoM-9JDSxZefAp4CO9ErlztyI6j99s5wdwzyvXbpqGQhqV9YXCHpdmkPNb5H7PIacCCb5sj2bvPMusOqXWJ54Z-54k2GSy1pb6jqt8dlbL9siESoyhP5HDyAjP5VqC1x1qHfZ0WzTQ8Eeyv0qDtYrLUy06xVtw=" linktype="1" shape="rect" target="_blank" track="on"><span style="color: black\;">Johnny Van </span></a>will be smoking a WHOLE HOG! Plus\, we&#39\;ll have all sorts of delicious sides in our BBQ buffet.&nbsp\;<span style="color: rgb(31\, 60\, 85)\;">He turns meat into gold!&nbsp\;</span><br />\n&nbsp\;<br />\n<span style="color: rgb(31\, 60\, 85)\;"><strong>* DJ DANCE PARTY.</strong> Our friend\, </span><a href="http://r20.rs6.net/tn.jsp?e=001itrmGR9tD_D0HBSZJp35-UaVrLrocqwAb0kaUlAX2a93fj9Sv_73otr2dk0fUT8-73JX_eKJoCc_kIOcfOn1nUzxH4JbYINxeocKnRlCYqpcR9pJ8ldNg9wBwPSPGuk3FOUfeW17bxKzYizi7TzBw3WI3ZZrXTS6Zb0vVUQot45XCeiv7LqFXYBTpCvzr65YTdT7VvJJnNV9dPPA8sZp_kFvvKeqbdElOxdHIwb8Z-DXJYl-R9VttOHBSNYMHu9E" linktype="1" shape="rect" target="_blank" track="on"><span style="color: black\;">DJRC</span></a><span style="color: black\;"> </span>will be playing his blend of funk\, soul\, hip-hop\, and more.&nbsp\;<br />\n<span style="color: rgb(31\, 60\, 85)\;">He&#39\;s opened for everyone from Shuggie Otis to Trombone Shorty to Escort to The Revivalists\, and then&nbsp\;some!</span><br />\n&nbsp\;<br />\n<span style="color: rgb(31\, 60\, 85)\;">Large group of friends who want to ring in the New Year?&nbsp\;</span><br />\n<span style="color: rgb(31\, 60\, 85)\;">Email us at </span><span style="color: black\;"><a href="mailto:events@socialbirdschicago.com" linktype="2" shape="rect" target="_blank"><span style="color: black\;">events@socialbirdschicago.com</span></a></span><span style="color: rgb(31\, 60\, 85)\;">&nbsp\;for discount options and reserved space. Space limited. </span></span></span><br />\n<br />\n
LOCATION:3857 North Southport Ave Chicago\, Illinois 60613
UID:e.1819.138
SEQUENCE:3
DTSTAMP:20260424T172900Z
URL:https://members.lakeviewroscoevillage.org/events/details/nye-at-toon-s-bar-grill-12-31-2013-138
END:VEVENT

END:VCALENDAR
