BEGIN:VCALENDAR
VERSION:2.0
PRODID:-//ChamberMaster//Event Calendar 2.0//EN
METHOD:PUBLISH
X-PUBLISHED-TTL:P3D
REFRESH-INTERVAL:P3D
CALSCALE:GREGORIAN
BEGIN:VEVENT
DTSTART:20170202T023000Z
DTEND:20170202T053000Z
X-MICROSOFT-CDO-ALLDAYEVENT:FALSE
SUMMARY:Official Chicago Bulls Watch Party with Benny the Bull & the Luvabulls!
DESCRIPTION:Join us Wednesday\, February 1st as we watch the Chicago Bulls take on the Oklahoma City Thunder. There will be appearances by Benny the Bull and the Luvabulls! It's your chance to win Bulls tickets and merchandise! \n\nDrink Specials:\n\n1/2 priced bottles of wine\n\n1/2 priced salads & wraps\n\n$5 glasses of house wine\n\n$6 Bud light 22 oz fatpours\n\n\n\nContact mikaela@diagchicago.com to reserve space for groups of 8 or more.
X-ALT-DESC;FMTTYPE=text/html:<p>Join us Wednesday\, February 1st as we watch the Chicago Bulls take on the Oklahoma City Thunder. There will be appearances by Benny the Bull and the Luvabulls! It&#39\;s your chance to win Bulls tickets and merchandise!&nbsp\;</p>\n\n<p><strong>Drink Specials:</strong><br />\n1/2 priced bottles of wine<br />\n1/2 priced salads &amp\; wraps<br />\n$5 glasses of house wine<br />\n$6 Bud light 22 oz fatpours<br />\n<br />\nContact mikaela@diagchicago.com to reserve space for groups of 8 or more.</p>\n
LOCATION:Diag Bar & Grill 2856 N Southport Ave Chicago\, IL 60657
UID:e.1819.4922
SEQUENCE:3
DTSTAMP:20260420T031115Z
URL:https://members.lakeviewroscoevillage.org/events/details/official-chicago-bulls-watch-party-with-benny-the-bull-the-luvabulls-02-01-2017-4922
END:VEVENT

END:VCALENDAR
