BEGIN:VCALENDAR
VERSION:2.0
PRODID:-//ChamberMaster//Event Calendar 2.0//EN
METHOD:PUBLISH
X-PUBLISHED-TTL:P3D
REFRESH-INTERVAL:P3D
CALSCALE:GREGORIAN
BEGIN:VEVENT
DTSTART:20151104T230000Z
DTEND:20151105T030000Z
X-MICROSOFT-CDO-ALLDAYEVENT:FALSE
SUMMARY:Okonomi Night Wednesdays
DESCRIPTION:Okonomi "what you like" Night\n\nAn evening of Japanese comfort food. Complimentary sake tastings.\n\n\n\nWarm up with your choice of Ramen\, includes a draft beer or glass pour of sake for $15.00!
X-ALT-DESC;FMTTYPE=text/html:<br />\nOkonomi &quot\;what you like&quot\; Night<br />\nAn evening of Japanese comfort food. Complimentary sake tastings.<br />\n<br />\nWarm up with your choice of Ramen\, includes a draft beer or glass pour of sake for $15.00!
LOCATION:Ani 3056 N. Lincoln ave. Chicago\, IL 60657
UID:e.1819.1174
SEQUENCE:3
DTSTAMP:20260422T223434Z
URL:https://members.lakeviewroscoevillage.org/events/details/okonomi-night-wednesdays-11-04-2015-1174
END:VEVENT

END:VCALENDAR
