BEGIN:VCALENDAR
VERSION:2.0
PRODID:-//ChamberMaster//Event Calendar 2.0//EN
METHOD:PUBLISH
X-PUBLISHED-TTL:P3D
REFRESH-INTERVAL:P3D
CALSCALE:GREGORIAN
BEGIN:VEVENT
DTSTART:20160715T230000Z
DTEND:20160717T230000Z
X-MICROSOFT-CDO-ALLDAYEVENT:FALSE
SUMMARY:Older Teen & Young Adult 12-Hour Self-Defense Intensive Course
DESCRIPTION:One weekend can change your life!  This in-depth course is 12 hours over three days (Friday evening and Saturday and Sunday afternoon). Each day\, students have the opportunity to practice physical skills\, awareness skills\, verbal skills\, and social skills that will enhance their safety in a variety of situations.  We use the Five Fingers of Self-Defense (Think\, Yell\, Run\, Fight\, and Tell) to teach people how to accurately assess their risk and respond to violence before it escalates\, while also teaching physical techniques to defend against direct physical and sexual assault.  Classes are a mix of group discussion\, role plays\, and physical drills and activities.  Our goal is to reduce both the prevalence and the harm of violence.  This course is especially for older teens through young adults (ages 15   26)\, and will deal frankly with the safety risks associated with that age group.  Taught from a strengths-based\, empowerment framework that validates and respects individual choice.  Open to all genders.
X-ALT-DESC;FMTTYPE=text/html:One weekend can change your life!&nbsp\; This in-depth course is 12 hours over three days (Friday evening and Saturday and Sunday afternoon). Each day\, students have the opportunity to practice physical skills\, awareness skills\, verbal skills\, and social skills that will enhance their safety in a variety of situations.&nbsp\; We use the Five Fingers of Self-Defense (Think\, Yell\, Run\, Fight\, and Tell) to teach people how to accurately assess their risk and respond to violence before it escalates\, while also teaching physical techniques to defend against direct physical and sexual assault.&nbsp\; Classes are a mix of group discussion\, role plays\, and physical drills and activities.&nbsp\; Our goal is to reduce both the prevalence and the harm of violence.&nbsp\; This course is especially for older teens through young adults (ages 15 &ndash\; 26)\, and will deal frankly with the safety risks associated with that age group.&nbsp\; Taught from a strengths-based\, empowerment framework that validates and respects individual choice.&nbsp\; Open to all genders.
LOCATION:Thousand Waves Martial Arts & Self-Defense Center 1220 West Belmont Chicago\, IL 60657
UID:e.1819.3290
SEQUENCE:3
DTSTAMP:20260422T082536Z
URL:https://members.lakeviewroscoevillage.org/events/details/older-teen-young-adult-12-hour-self-defense-intensive-course-07-15-2016-3290
END:VEVENT

END:VCALENDAR
