BEGIN:VCALENDAR
VERSION:2.0
PRODID:-//ChamberMaster//Event Calendar 2.0//EN
METHOD:PUBLISH
X-PUBLISHED-TTL:P3D
REFRESH-INTERVAL:P3D
CALSCALE:GREGORIAN
BEGIN:VEVENT
DTSTART;VALUE=DATE:20140327
DTEND;VALUE=DATE:20140328
TRANSP:TRANSPARENT
X-MICROSOFT-CDO-ALLDAYEVENT:TRUE
SUMMARY:On The Route Demo Day
DESCRIPTION:Ride option #1\n\nLakeview to Downtown\n\n8 miles one way / 16 round trip\n\n \n\nRide option # 2\n\nLakeview-Downtown-Lakeview on of the following: \n\nTrek Madone or Domane. Cannondale Caad 8\, Caad 10\, Synapse or Super Six\n\n16 miles round trip\n\n \n\nRide option # 3\n\nLakeview to Lincoln Square\n\n3 miles one way / 6 round trip
X-ALT-DESC;FMTTYPE=text/html:<h3 class="text-align-center"><strong>Ride option #1</strong></h3>\n\n<h3 class="text-align-center">Lakeview to Downtown<br />\n8 miles one way / 16 round trip</h3>\n\n<p>&nbsp\;</p>\n\n<h3 class="text-align-center"><strong>Ride option # 2</strong></h3>\n\n<h3 class="text-align-center">Lakeview-Downtown-Lakeview on of the following:&nbsp\;<br />\n<strong><em>Trek Madone or Domane. Cannondale Caad 8\, Caad 10\, Synapse or Super Six</em><br />\n16 miles round trip</strong></h3>\n\n<p>&nbsp\;</p>\n\n<h3 class="text-align-center"><strong>Ride option # 3</strong></h3>\n\n<h3 class="text-align-center">Lakeview to Lincoln Square<br />\n3 miles one way / 6 round trip</h3>\n
LOCATION:All rides start at the Lakeview store Ending Routes are as follows Lakeview: 3144 N Lincoln Ave Lincoln Square: 2338 W Lawrence Ave Downtown: 1118 S Michigan Ave
UID:e.1819.241
SEQUENCE:3
DTSTAMP:20260424T140154Z
URL:https://members.lakeviewroscoevillage.org/events/details/on-the-route-demo-day-03-27-2014-241
END:VEVENT

END:VCALENDAR
