BEGIN:VCALENDAR
VERSION:2.0
PRODID:-//ChamberMaster//Event Calendar 2.0//EN
METHOD:PUBLISH
X-PUBLISHED-TTL:P3D
REFRESH-INTERVAL:P3D
CALSCALE:GREGORIAN
BEGIN:VEVENT
DTSTART:20160510T230000Z
DTEND:20160511T000000Z
X-MICROSOFT-CDO-ALLDAYEVENT:FALSE
SUMMARY:On the Table
DESCRIPTION:Do you have ideas for improving your community? Do you want to create a more unified Chicago? Do you want an opportunity to really listen to what your neighbors think? Chicago Public Library has joined with The Chicago Community Trust to host On the Table events at all branches across the city. We will be hosting an event where community members of all backgrounds gather together to put issues and solutions "on the table." While many of the issues facing our city don't have quick fixes\, connecting and communicating with our neighbors can foster new relationships and unify our neighborhood. Please join us to listen and contribute ideas on how we can improve our community!\n\n\n\nPlease RSVP: lincolnbelmont@chipublib.org
X-ALT-DESC;FMTTYPE=text/html:<span style="font-family: Arial\, Helvetica\, sans-serif\; font-size: 16px\;">Do you have ideas for improving your community? Do you want to create a more unified Chicago? Do you want an opportunity to really listen to what your neighbors think? Chicago Public Library has joined with The Chicago Community Trust to host On the Table events at all branches across the city. We will be hosting an event where community members of all backgrounds gather together to put issues and solutions &quot\;on the table.&quot\; While many of the issues facing our city don&#39\;t have quick fixes\, connecting and communicating with our neighbors can foster new relationships and unify our neighborhood. Please join us to listen and contribute ideas on how we can improve our community!</span><br style="color: rgb(51\, 51\, 51)\; font-family: sans-serif\, Arial\, Verdana\, 'Trebuchet MS'\; font-size: 13px\; line-height: 20.8px\;" />\n<br style="color: rgb(51\, 51\, 51)\; font-family: sans-serif\, Arial\, Verdana\, 'Trebuchet MS'\; font-size: 13px\; line-height: 20.8px\;" />\n<span style="color: rgb(51\, 51\, 51)\; font-family: sans-serif\, Arial\, Verdana\, 'Trebuchet MS'\; font-size: 13px\; line-height: 20.8px\; background-color: rgb(255\, 255\, 255)\;">Please RSVP:&nbsp\;</span>lincolnbelmont<span style="color: rgb(51\, 51\, 51)\; font-family: sans-serif\, Arial\, Verdana\, 'Trebuchet MS'\; font-size: 13px\; line-height: 20.8px\; background-color: rgb(255\, 255\, 255)\;">@chipublib.org</span>
LOCATION:Lincoln Belmont Branch Library\, 1659 W. Melrose Street
UID:e.1819.2948
SEQUENCE:3
DTSTAMP:20260422T114202Z
URL:https://members.lakeviewroscoevillage.org/events/details/on-the-table-05-10-2016-2948
END:VEVENT

END:VCALENDAR
