BEGIN:VCALENDAR
VERSION:2.0
PRODID:-//ChamberMaster//Event Calendar 2.0//EN
METHOD:PUBLISH
X-PUBLISHED-TTL:P3D
REFRESH-INTERVAL:P3D
CALSCALE:GREGORIAN
BEGIN:VEVENT
DTSTART:20170516T230000Z
DTEND:20170517T010000Z
X-MICROSOFT-CDO-ALLDAYEVENT:FALSE
SUMMARY:On The Table - Your Voice Matters
DESCRIPTION:Do you have ideas for improving your community?\n\nIn today's world\, this act of coming together has never been more important. On the Table 2017 will connect individuals and communities of diverse perspectives and backgrounds. Talking   and listening   to our neighbors is an important first step toward creating a more unified Chicagoland region.\n\nJoin us on Tuesday\, May 16\, 6:00 p.m. to talk about your community and how we can help unite the place we call home. Please RSVP: lincolnbelmont@chipublib.org\n\nSponsored by the Chicago Community Trust
X-ALT-DESC;FMTTYPE=text/html:<span style="font-size:14px\;"><span style="font-family:tahoma\;"><strong>Do you have ideas for improving your community?</strong><br />\nIn today&rsquo\;s world\, this act of coming together has never been more important. <em>On the Table</em> 2017 will connect individuals and communities of diverse perspectives and backgrounds. Talking &ndash\; and listening &ndash\; to our neighbors is an important first step toward creating a more unified Chicagoland region.<br />\nJoin us&nbsp\;on <strong>Tuesday\, May 16\, 6:00 p.m.</strong> to talk about your community and how we can help unite the place we call home. Please RSVP: lincolnbelmont@chipublib.org<br />\n<strong><em><span style="color:#4F5052\;">Sponsored by the Chicago Community Trust</span></em></strong></span></span><br />\n&nbsp\;
LOCATION:Lincoln Belmont Branch 1650 W Melrose St Chicago\, IL 60657
UID:e.1819.5032
SEQUENCE:3
DTSTAMP:20260419T200249Z
URL:https://members.lakeviewroscoevillage.org/events/details/on-the-table-your-voice-matters-05-16-2017-5032
END:VEVENT

END:VCALENDAR
