BEGIN:VCALENDAR
VERSION:2.0
PRODID:-//ChamberMaster//Event Calendar 2.0//EN
METHOD:PUBLISH
X-PUBLISHED-TTL:P3D
REFRESH-INTERVAL:P3D
CALSCALE:GREGORIAN
BEGIN:VEVENT
DTSTART;VALUE=DATE:20170408
DTEND;VALUE=DATE:20170409
TRANSP:TRANSPARENT
X-MICROSOFT-CDO-ALLDAYEVENT:TRUE
SUMMARY:One Book One Chicago Presents: Lincoln Ave. On Foot\, For Food Walking Tour with Max Grinnell
DESCRIPTION:"One Book One Chicago Presents: Lincoln Ave. On Foot\, For Food Walking Tour\n\nwith Max Grinnell"\n\n\n\nIn recent years\, Lincoln Avenue in Roscoe Village continues to offer the interested food aficionado a range of cafes\, butchers\, fast-casual restaurants\, and Southern-style cuisine eateries. On this walking tour\, we'll get to stop by a few of these establishments and talk with business owners about how they are responding to customers' requests to know more about their food. Urbanologist\, Max Grinnell\, will host and lead the tour.
X-ALT-DESC;FMTTYPE=text/html:<p style="text-align: center\;"><strong><span style="font-size:16px">&quot\;One Book One Chicago Presents: Lincoln Ave. On Foot\, For Food Walking Tour<br />\nwith Max Grinnell&quot\;</span><br />\n<br />\n<span style="color:black\; font-family:calibri\,sans-serif\; font-size:14pt">In recent years\, Lincoln Avenue in Roscoe Village continues to offer the interested food aficionado a range of cafes\, butchers\, fast-casual restaurants\, and Southern-style cuisine eateries. On this walking tour\, we&rsquo\;ll get to stop by a few of these establishments and talk with business owners about how they are responding to customers&rsquo\; requests to know more about their food. Urbanologist\,<strong><span style="color:black\; font-family:arial\,sans-serif\; font-size:11pt"> </span></strong>Max Grinnell\, will host and lead the tour. </span></strong></p>\n
LOCATION:Chicago Public Library Lincoln Belmont Branch Library 1659 W. Melrose St. Chicago\, Il
UID:e.1819.5016
SEQUENCE:3
DTSTAMP:20260419T221100Z
URL:https://members.lakeviewroscoevillage.org/events/details/one-book-one-chicago-presents-lincoln-ave-on-foot-for-food-walking-tour-with-max-grinnell-04-08-2017-5016
END:VEVENT

END:VCALENDAR
