BEGIN:VCALENDAR
VERSION:2.0
PRODID:-//ChamberMaster//Event Calendar 2.0//EN
METHOD:PUBLISH
X-PUBLISHED-TTL:P3D
REFRESH-INTERVAL:P3D
CALSCALE:GREGORIAN
BEGIN:VEVENT
DTSTART:20150226T160000Z
DTEND:20150226T170000Z
X-MICROSOFT-CDO-ALLDAYEVENT:FALSE
SUMMARY:Open House with Small Business Development Center
DESCRIPTION:Join the Lakeview Chamber of Commerce for an Open House as we celebrate our new partnership with the Small Business Development Center (SBDC).  \n\nStarting on Wed. March 18 we will be offering Onsite Consultation Services but before that we would like to kick off our partnership with an Open House so you can learn more about the Consultations and met the adviser\, Florence Hardy. \n\n\n\nOnsite Consultation Services Synopsis \n\nAdvisers at the Chicagoland Chamber of Commerce Small Business Development Center ("SBDC") are ready to answer your business questions. Our advisers have real-world business management experience and are willing to help you with questions regarding topics such as business planning\, business management\, financial statement analysis\, cash flow management\, record-keeping\, bank financing\, exports and imports\, developing personnel policies\, marketing planning and product innovation. \n\nThe SBDC provides free\, confidential one-on-one advising for all stages of small business development including: Pre-venture assistance\, start up and established business services\, as well as advising on new products and initiatives.
X-ALT-DESC;FMTTYPE=text/html:<span style="font-size:12px\;"><span style="font-family:arial\;">Join the Lakeview Chamber of Commerce for an Open House as we celebrate our new partnership with the Small Business Development Center (SBDC). &nbsp\;<br />\nStarting on Wed. March 18 we will be offering&nbsp\;Onsite Consultation Services&nbsp\;but before that we would like to kick off our partnership with an Open House so you can learn more about the Consultations and met the adviser\, Florence Hardy.&nbsp\;</span></span><br />\n<br />\n<u><span style="font-family: arial\; font-size: 12px\; line-height: 19.2000007629395px\;">Onsite Consultation Services Synopsis&nbsp\;</span></u><br />\n<span style="font-size:12px\;"><span style="font-family:arial\;"><span style="color:black\;">Advisers at the Chicagoland Chamber of Commerce Small Business Development Center (&ldquo\;SBDC&rdquo\;) are ready to answer your business questions. Our advisers have real-world business management experience and are willing to help you with questions regarding topics such as business planning\, business management\, financial statement analysis\, cash flow management\, record-keeping\, bank financing\, exports and imports\, developing personnel policies\, marketing planning and product innovation.&nbsp\;</span><br />\n<span style="color:black\;">The SBDC provides free\, confidential one-on-one advising for all stages of small business development including: Pre-venture assistance\, start up and established business services\, as well as advising on new products and initiatives.</span></span></span>
LOCATION:Lakeview Chamber of Commerce 1409 W Addison Chicago\, IL 60613
UID:e.1819.1499
SEQUENCE:3
DTSTAMP:20260423T151805Z
URL:https://members.lakeviewroscoevillage.org/events/details/open-house-with-small-business-development-center-02-26-2015-1499
END:VEVENT

END:VCALENDAR
