BEGIN:VCALENDAR
VERSION:2.0
PRODID:-//ChamberMaster//Event Calendar 2.0//EN
METHOD:PUBLISH
X-PUBLISHED-TTL:P3D
REFRESH-INTERVAL:P3D
CALSCALE:GREGORIAN
BEGIN:VEVENT
DTSTART:20150604T150000Z
DTEND:20150607T230000Z
X-MICROSOFT-CDO-ALLDAYEVENT:FALSE
SUMMARY:Our Famous Warehouse Sale!
DESCRIPTION:Mark your calendars! Our Summer Warehouse Sale starts next week!\n\nJoin us at 5407 N. Clark Street for fabulous deals on past seasons' children's clothing\, Sizes 0-16yrs! Brands like Little Traveler\, La Miniatura\, Stella\, Egg\, Charlie Rocket and more!\n\nTimes/Dates:\n\nThursday\, June 4th\, 10-6pm\n\nFriday\, June 5th\, 10-6pm\n\nSaturday\, June 6th\, 10-5pm\n\nSunday\, June 7th\, 10-5pm
X-ALT-DESC;FMTTYPE=text/html:<p>Mark your calendars! Our Summer Warehouse Sale starts next week!</p>\n\n<p>Join us at 5407 N. Clark Street for fabulous deals on past seasons&#39\; children&#39\;s clothing\, Sizes 0-16yrs! Brands like Little Traveler\, La Miniatura\, Stella\, Egg\, Charlie Rocket and more!</p>\n\n<p>Times/Dates:<br />\nThursday\, June 4th\, 10-6pm<br />\nFriday\, June 5th\, 10-6pm<br />\nSaturday\, June 6th\, 10-5pm<br />\nSunday\, June 7th\, 10-5pm</p>\n
LOCATION:5407 N Clark St.
UID:e.1819.1770
SEQUENCE:3
DTSTAMP:20260423T074121Z
URL:https://members.lakeviewroscoevillage.org/events/details/our-famous-warehouse-sale-06-04-2015-1770
END:VEVENT

END:VCALENDAR
