BEGIN:VCALENDAR
VERSION:2.0
PRODID:-//ChamberMaster//Event Calendar 2.0//EN
METHOD:PUBLISH
X-PUBLISHED-TTL:P3D
REFRESH-INTERVAL:P3D
CALSCALE:GREGORIAN
BEGIN:VEVENT
DTSTART:20141012T220000Z
DTEND:20141013T010000Z
X-MICROSOFT-CDO-ALLDAYEVENT:FALSE
SUMMARY:Paint it PINK! Breast Cancer Fundraiser
DESCRIPTION:Raise your glass to HOPE. Raise funds for RESEARCH. October is Breast Cancer Awareness Month\, and we're painting TWO glasses at this event to raise them high! Portions of the proceeds will be donated to Chicagoland Affiliate of Susan G. Komen. Ticket price includes all paint supplies\, instruction\, aprons and glassware! BYOB reception: begins at 5:00pm. Painting takes place from 5:30-8:00pm. Heads up! We've got some awesome * R A F F L E S * to give away!
X-ALT-DESC;FMTTYPE=text/html:Raise your glass to HOPE. Raise funds for RESEARCH. October is Breast Cancer Awareness Month\, and we&#39\;re painting TWO glasses at this event to raise them high! Portions of the proceeds will be donated to Chicagoland Affiliate of Susan G. Komen. Ticket price includes all paint supplies\, instruction\, aprons and glassware! BYOB reception: begins at 5:00pm. Painting takes place from 5:30-8:00pm. Heads up! We&#39\;ve got some awesome * R A F F L E S * to give away!
LOCATION:2900 N Lincoln Ave
UID:e.1819.497
SEQUENCE:3
DTSTAMP:20260423T225052Z
URL:https://members.lakeviewroscoevillage.org/events/details/paint-it-pink-breast-cancer-fundraiser-10-12-2014-497
END:VEVENT

END:VCALENDAR
