BEGIN:VCALENDAR
VERSION:2.0
PRODID:-//ChamberMaster//Event Calendar 2.0//EN
METHOD:PUBLISH
X-PUBLISHED-TTL:P3D
REFRESH-INTERVAL:P3D
CALSCALE:GREGORIAN
BEGIN:VEVENT
DTSTART:20161016T180000Z
DTEND:20161016T210000Z
X-MICROSOFT-CDO-ALLDAYEVENT:FALSE
SUMMARY:Paint Your Pet Fundraiser
DESCRIPTION:Help support The Anti-Cruelty Society with Bottle & Bottega and come PAINT YOUR PET! Bring a photo of your pet   not your actual pet\, please!   to paint an homage to your best furry\, scaly\, or feathered friend with guidance from our amazingly talented B&B artists!\n\nTicket price also includes use of our studio essentials: aprons\, paint\, brushes\, step-by-step instruction and your take-home 11x14 masterpiece!!\n\nBONUS: A cash raffle with lots of fabulous raffle prizes for some lucky painters! \n\nRegister here: bit.ly/BnBpetsLV ($40)
X-ALT-DESC;FMTTYPE=text/html:<p><span style="font-size:14px">Help support&nbsp\;<strong><a href="http://www.anticruelty.org/" style="color: rgb(0\, 51\, 170)\; text-decoration: none\; background: transparent\; border: 0px currentcolor\; margin: 0px\; padding: 0px\; vertical-align: baseline\; outline: none\;" target="_blank"><span style="color:rgb(255\, 165\, 0)">The Anti-Cruelty Society</span></a></strong>&nbsp\;with Bottle &amp\; Bottega&nbsp\;and&nbsp\;come&nbsp\;<strong>PAINT YOUR PET!&nbsp\;</strong>Bring a photo of your pet &mdash\;&nbsp\;<em>not your actual pet\, please!</em>&nbsp\;&mdash\;&nbsp\;to&nbsp\;paint an homage to your best furry\, scaly\, or feathered friend with guidance from our amazingly talented&nbsp\;B&amp\;B artists!</span></p>\n\n<p><span style="font-size:14px">Ticket price also includes use of our studio essentials:&nbsp\;aprons\, paint\, brushes\, step-by-step instruction and your take-home 11x14 masterpiece!!</span></p>\n\n<p><span style="font-size:14px"><span style="color:rgb(255\, 165\, 0)"><strong>BONUS: A&nbsp\;</strong></span><span style="color:rgb(255\, 0\, 0)"><strong>cash&nbsp\;</strong></span><span style="color:rgb(255\, 165\, 0)">raffle with lots of fabulous&nbsp\;raffle prizes for some lucky painters!&nbsp\;</span><br />\nRegister here: <strong>bit.ly/BnBpetsLV </strong>($40)</span></p>\n
LOCATION:Bottle and Bottega Lakeview 2900 N Lincoln Ave Chicago\, IL 60657
UID:e.1819.3814
SEQUENCE:3
DTSTAMP:20260422T084634Z
URL:https://members.lakeviewroscoevillage.org/events/details/paint-your-pet-fundraiser-10-16-2016-3814
END:VEVENT

END:VCALENDAR
