BEGIN:VCALENDAR
VERSION:2.0
PRODID:-//ChamberMaster//Event Calendar 2.0//EN
METHOD:PUBLISH
X-PUBLISHED-TTL:P3D
REFRESH-INTERVAL:P3D
CALSCALE:GREGORIAN
BEGIN:VEVENT
DTSTART;VALUE=DATE:20140310
DTEND;VALUE=DATE:20140311
TRANSP:TRANSPARENT
X-MICROSOFT-CDO-ALLDAYEVENT:TRUE
SUMMARY:Panhandling Seminar
DESCRIPTION:Anita Alvarez\n\nCook County State's Attorney\n\nNorthside Community Justice Center \n\nPresents a\n\nPANHANDLING SEMINAR\n\n\n\nWHAT BUSINESSES AND CITIZENS NEED TO KNOW\n\nHELP OUT! DON'T HAND OUT
X-ALT-DESC;FMTTYPE=text/html:<div style="text-align: center\;">Anita Alvarez<br />\nCook County State&#39\;s Attorney<br />\n<em><strong>Northside Community Justice Center </strong></em></div>\n\n<div style="text-align: center\;"><em>Presents a</em></div>\n\n<div style="text-align: center\;"><strong>PANHANDLING SEMINAR</strong><br />\n<br />\nWHAT BUSINESSES AND CITIZENS NEED TO KNOW<br />\n<strong>HELP OUT! <u>DON&#39\;T</u> HAND OUT</strong><br />\n&nbsp\;</div>\n
LOCATION:19th District Chicago Police Department 850 W. Addison Street Community Room (Parking available in visitor lot)
UID:e.1819.223
SEQUENCE:3
DTSTAMP:20260424T135344Z
URL:https://members.lakeviewroscoevillage.org/events/details/panhandling-seminar-03-10-2014-223
END:VEVENT

END:VCALENDAR
