BEGIN:VCALENDAR
VERSION:2.0
PRODID:-//ChamberMaster//Event Calendar 2.0//EN
METHOD:PUBLISH
X-PUBLISHED-TTL:P3D
REFRESH-INTERVAL:P3D
CALSCALE:GREGORIAN
BEGIN:VEVENT
DTSTART:20131018T224500Z
DTEND:20131019T014500Z
X-MICROSOFT-CDO-ALLDAYEVENT:FALSE
SUMMARY:Parents' Survival Night at The Little Gym
DESCRIPTION:Parents call it a break from the kids. Kids call it a break from their parents. That sounds like a win-win situation to us. The Little Gym of Chicago Parents' Survival Nights let you enjoy some adult time to see a movie\, catch up with friends or enjoy a meal without ahem your pint-sized food critics in tow. Meanwhile\, your children get some quality "kid time" in a safe\, fun\, familiar place with trained instructors who lead them through games and music-filled activities. Spots fill quickly\, so call (773) 525-5750 to book your win-win parents' night out.
X-ALT-DESC;FMTTYPE=text/html:Parents call it a break from the kids. Kids call it a break from their parents. That sounds like a win-win situation to us. The Little Gym of Chicago Parents&#39\; Survival Nights let you enjoy some adult time to see a movie\, catch up with friends or enjoy a meal without&mdash\;ahem&mdash\;your pint-sized food critics in tow. Meanwhile\, your children get some quality &ldquo\;kid time&rdquo\; in a safe\, fun\, familiar place with trained instructors who lead them through games and music-filled activities. Spots fill quickly\, so call (773) 525-5750 to book your win-win parents&rsquo\; night out.
LOCATION:3216 North Lincoln Avenue
UID:e.1819.43
SEQUENCE:3
DTSTAMP:20260424T224702Z
URL:https://members.lakeviewroscoevillage.org/events/details/parents-survival-night-at-the-little-gym-10-18-2013-43
END:VEVENT

END:VCALENDAR
