BEGIN:VCALENDAR
VERSION:2.0
PRODID:-//ChamberMaster//Event Calendar 2.0//EN
METHOD:PUBLISH
X-PUBLISHED-TTL:P3D
REFRESH-INTERVAL:P3D
CALSCALE:GREGORIAN
BEGIN:VEVENT
DTSTART:20130911T000000Z
DTEND:20130911T020000Z
X-MICROSOFT-CDO-ALLDAYEVENT:FALSE
SUMMARY:Party with a Purpose at Revolution Brewing
DESCRIPTION:The Albany Park Community Center?s Associate Board is hosting its fall fundraiser\, Party with a Purpose: Revolutionizing Community at one of Chicago?s most lively brewpubs\, Revolution Brewing\, on Sept. 10 from 7-9 p.m.  Revolution Brewing\, located at 2323 N. Milwaukee Ave. in the city?s trendy Logan Square neighborhood\, is a popular destination for beer lovers and foodies alike. Last December\, the brewpub made Metromix?s list of ?best bars for beer lovers? for its tasty beers and simple-but-delicious fare.  In addition to ample opportunities to socialize and network\, attendees can choose from five of the brewery?s core house beers\, ranging from pale ale to porter. A sampling from Revolution Brewing?s creative\, gourmet menu will also be available\, along with non-alcoholic beverages. Proceeds from the all-you-can-eat-and-drink fundraiser will go to support the good work of APCC. A variety of prizes will also be raffled off during the event.
X-ALT-DESC;FMTTYPE=text/html:The Albany Park Community Center?s Associate Board is hosting its fall fundraiser\, Party with a Purpose: Revolutionizing Community at one of Chicago?s most lively brewpubs\, Revolution Brewing\, on Sept. 10 from 7-9 p.m.&nbsp\; Revolution Brewing\, located at 2323 N. Milwaukee Ave. in the city?s trendy Logan Square neighborhood\, is a popular destination for beer lovers and foodies alike. Last December\, the brewpub made Metromix?s list of ?best bars for beer lovers? for its tasty beers and simple-but-delicious fare.&nbsp\; In addition to ample opportunities to socialize and network\, attendees can choose from five of the brewery?s core house beers\, ranging from pale ale to porter. A sampling from Revolution Brewing?s creative\, gourmet menu will also be available\, along with non-alcoholic beverages. Proceeds from the all-you-can-eat-and-drink fundraiser will go to support the good work of APCC. A variety of prizes will also be raffled off during the event.&nbsp\;
LOCATION:Revolution Brewing 2323 N. Milwaukee Ave.
UID:e.1819.53
SEQUENCE:3
DTSTAMP:20260425T021059Z
URL:https://members.lakeviewroscoevillage.org/events/details/party-with-a-purpose-at-revolution-brewing-09-10-2013-53
END:VEVENT

END:VCALENDAR
