BEGIN:VCALENDAR
VERSION:2.0
PRODID:-//ChamberMaster//Event Calendar 2.0//EN
METHOD:PUBLISH
X-PUBLISHED-TTL:P3D
REFRESH-INTERVAL:P3D
CALSCALE:GREGORIAN
BEGIN:VEVENT
DTSTART:20160313T000000Z
DTEND:20160313T050000Z
X-MICROSOFT-CDO-ALLDAYEVENT:FALSE
SUMMARY:Patriots Ball\, Hamilton's Annual Benefit
DESCRIPTION:Join Hamilton Elementary School for their Annual Patriots' Ball\, Hamilton's largest fundraiser. This adult-only event features a live band\, food and drinks\, as well as live and silent auctions. Proceeds directly benefit Hamilton's academic\, arts and wellness programs. Past proceeds were used to purchase technology such as Smart Boards and iPads\, a turf athletic field\, a new sound system for the theater and our new playground. Funds raised this year will support Hamilton's technology and arts initiatives.\n\n \n\n\nAuction Donations\n\n\n\nWe are seeking donations of items or gift certificates for the Patriots' Ball live and silent auctions\; auction donations are tax-deductible. In exchange\, you will receive publicity within the Patriots' Ball program. We always encourage Hamilton families to patronize the businesses that support this critical fundraising event. Last year\, the Patriots' Ball raised $112\,000 with more than 250 people attending the benefit.\n\nTo make a donation\, please use one of the following:\n\n\n	For individual donations\, please use the Donation Form.\n	For contacting local businesses for donations\, please use the Donation Package.\n\n\nIf you have questions\, please contact Carl Breving.
X-ALT-DESC;FMTTYPE=text/html:Join Hamilton Elementary School for their Annual&nbsp\;Patriots&rsquo\; Ball\,&nbsp\;Hamilton&rsquo\;s largest fundraiser. This adult-only event features a live band\, food and drinks\, as well as live and silent auctions.&nbsp\;Proceeds&nbsp\;directly benefit Hamilton&rsquo\;s academic\, arts and wellness programs. Past proceeds were used to purchase technology such as Smart Boards and iPads\, a turf athletic field\, a new sound system for the theater and our new playground. Funds raised this year will support Hamilton&#39\;s technology and arts initiatives.<br />\n&nbsp\;\n<div>\n<div>\n<h3>Auction Donations</h3>\n</div>\n</div>\n\n<p>We are seeking donations of items or gift certificates for the Patriots&rsquo\; Ball live and silent auctions\; auction donations are tax-deductible.&nbsp\;In exchange\, you will receive publicity within the Patriots&rsquo\; Ball program. We always encourage Hamilton families to patronize the businesses that support this critical fundraising event. Last year\, the Patriots&rsquo\; Ball raised $112\,000 with more than 250 people attending the benefit.</p>\n\n<p>To make a donation\,&nbsp\;please use one of the following:</p>\n\n<ul>\n	<li 10px="" 14px="" images="">For&nbsp\;individual&nbsp\;donations\, please use the&nbsp\;<a href="http://www.hamiltoncps.org/wp-content/uploads/PB16-AuctionDonationForm.pdf" rel="">Donation Form</a>.</li>\n	<li 10px="" 14px="" images="">For contacting local&nbsp\;businesses&nbsp\;for donations\, please use the&nbsp\;<a href="http://www.hamiltoncps.org/wp-content/uploads/PB16-LetterAndForm.pdf" rel="">Donation Package</a>.</li>\n</ul>\n\n<p>If you have questions\, please contact&nbsp\;<a 08="" 2012="" href="mailto:hamiltonfundraise@gmail.com" no-repeat="" uploads="" wp-content="">Carl</a><a 08="" 2012="" href="mailto:hamiltonfundraise@gmail.com" no-repeat="" uploads="" wp-content=""> Breving</a>.</p>\n
LOCATION:Ravenswood Event Center 4025 N Ravenswood Ave
UID:e.1819.2839
SEQUENCE:3
DTSTAMP:20260422T171027Z
URL:https://members.lakeviewroscoevillage.org/events/details/patriots-ball-hamilton-s-annual-benefit-03-12-2016-2839
END:VEVENT

END:VCALENDAR
