BEGIN:VCALENDAR
VERSION:2.0
PRODID:-//ChamberMaster//Event Calendar 2.0//EN
METHOD:PUBLISH
X-PUBLISHED-TTL:P3D
REFRESH-INTERVAL:P3D
CALSCALE:GREGORIAN
BEGIN:VEVENT
DTSTART:20170819T150000Z
DTEND:20170819T200000Z
X-MICROSOFT-CDO-ALLDAYEVENT:FALSE
SUMMARY:Paulina Meat Market Food Show!
DESCRIPTION:Join Paulina Meat Market for their first ever Food Show! Paulina Market will be hosting a variety of their gourmet grocery vendors along with live music\, face painting\, ice sculpture\, and much more! For more information\, check out their Facebook page.
X-ALT-DESC;FMTTYPE=text/html:Join Paulina Meat Market for their first ever Food Show! Paulina&nbsp\;Market will be hosting a variety of their gourmet grocery vendors along with live music\, face painting\, ice sculpture\, and much more! For more information\, check out their Facebook page.
LOCATION:3501 N Lincoln Ave Chicago\, IL
UID:e.1819.5227
SEQUENCE:3
DTSTAMP:20260419T124250Z
URL:https://members.lakeviewroscoevillage.org/events/details/paulina-meat-market-food-show-08-19-2017-5227
END:VEVENT

END:VCALENDAR
