BEGIN:VCALENDAR
VERSION:2.0
PRODID:-//ChamberMaster//Event Calendar 2.0//EN
METHOD:PUBLISH
X-PUBLISHED-TTL:P3D
REFRESH-INTERVAL:P3D
CALSCALE:GREGORIAN
BEGIN:VEVENT
DTSTART:20140204T150000Z
DTEND:20140204T154500Z
X-MICROSOFT-CDO-ALLDAYEVENT:FALSE
SUMMARY:Paulina Station Merchant Meeting
DESCRIPTION:The Lakeview Chamber invites Lincoln Avenue business owners and managers to come together to meet one another\, plan programming and set strategic goals for 2014.\n\n\n\nNote: Businesses on Lincoln Ave between Belmont and Addison are invited to this\n\nmeeting.\n\n\n\nFEBRUARY AGENDA:\n\n- Alderman Ameya Pawar\n\n- Advocate IL Masonic Shop for a Cause programming details\n\n- confirm details and planning needs for 2014 quarterly events\n\n- meet your neighbors and 30-second intro to your business\n\n\n\nRSVP: info@lakeviewchamber.com | Open to Chamber members and non-members
X-ALT-DESC;FMTTYPE=text/html:The Lakeview Chamber invites Lincoln Avenue business owners and managers to come together to meet one another\, plan programming and set strategic goals for 2014.<br />\n<br />\n<strong>Note: </strong>Businesses on Lincoln Ave between Belmont and Addison are invited to this<br />\nmeeting.<br />\n<br />\n<strong>FEBRUARY AGENDA:</strong><br />\n- Alderman Ameya Pawar<br />\n- Advocate IL Masonic Shop for a Cause programming details<br />\n- confirm details and planning needs for 2014 quarterly&nbsp\;events<br />\n- meet your neighbors and 30-second intro to your business<br />\n<br />\nRSVP: info@lakeviewchamber.com | Open to Chamber members and non-members 
LOCATION:Frasca Pizzeria 3358 N. Lincoln Ave
UID:e.1819.135
SEQUENCE:3
DTSTAMP:20260424T155450Z
URL:https://members.lakeviewroscoevillage.org/events/details/paulina-station-merchant-meeting-02-04-2014-135
END:VEVENT

END:VCALENDAR
