BEGIN:VCALENDAR
VERSION:2.0
PRODID:-//ChamberMaster//Event Calendar 2.0//EN
METHOD:PUBLISH
X-PUBLISHED-TTL:P3D
REFRESH-INTERVAL:P3D
CALSCALE:GREGORIAN
BEGIN:VEVENT
DTSTART:20140304T150000Z
DTEND:20140304T154500Z
X-MICROSOFT-CDO-ALLDAYEVENT:FALSE
SUMMARY:Paulina Station Merchant Meeting
DESCRIPTION:Held the 1st Tuesday of each month\, the Lakeview Chamber invites Lincoln Avenue business owners and managers to come together to meet one another\, plan programming and set strategic goals for 2014.\n\n\n\nNote: Businesses on Lincoln Ave between Belmont and Addison are invited to this\n\nmeeting.\n\n\n\nAgenda items can include: community updates\, event details/planning\, marketing tips and opportunities\, safety info\, and more.\n\n\n\n\n\nRSVP: info@lakeviewchamber.com | Open to Chamber members and non-members
X-ALT-DESC;FMTTYPE=text/html:Held the 1st Tuesday of each month\, the Lakeview Chamber invites Lincoln Avenue business owners and managers to come together to meet one another\, plan programming and set strategic goals for 2014.<br />\n<br />\n<strong>Note: </strong>Businesses on Lincoln Ave between Belmont and Addison are invited to this<br />\nmeeting.<br />\n<br />\n<strong>Agenda items can include: </strong>community updates\, event details/planning\, marketing tips and opportunities\, safety info\, and more.<br />\n<br />\n<br />\nRSVP: info@lakeviewchamber.com | Open to Chamber members and non-members 
LOCATION:Frasca Pizzeria 3358 N. Lincoln Ave
UID:e.1819.197
SEQUENCE:3
DTSTAMP:20260424T140437Z
URL:https://members.lakeviewroscoevillage.org/events/details/paulina-station-merchant-meeting-03-04-2014-197
END:VEVENT

END:VCALENDAR
